BEGIN:VCALENDAR
VERSION:2.0
PRODID:-//Fleck | Dachzubehör! - ECPv6.15.20//NONSGML v1.0//EN
CALSCALE:GREGORIAN
METHOD:PUBLISH
X-WR-CALNAME:Fleck | Dachzubehör!
X-ORIGINAL-URL:https://staging.fleck-dach.de
X-WR-CALDESC:Veranstaltungen für Fleck | Dachzubehör!
REFRESH-INTERVAL;VALUE=DURATION:PT1H
X-Robots-Tag:noindex
X-PUBLISHED-TTL:PT1H
BEGIN:VTIMEZONE
TZID:Europe/Berlin
BEGIN:DAYLIGHT
TZOFFSETFROM:+0100
TZOFFSETTO:+0200
TZNAME:CEST
DTSTART:20220327T010000
END:DAYLIGHT
BEGIN:STANDARD
TZOFFSETFROM:+0200
TZOFFSETTO:+0100
TZNAME:CET
DTSTART:20221030T010000
END:STANDARD
BEGIN:DAYLIGHT
TZOFFSETFROM:+0100
TZOFFSETTO:+0200
TZNAME:CEST
DTSTART:20230326T010000
END:DAYLIGHT
BEGIN:STANDARD
TZOFFSETFROM:+0200
TZOFFSETTO:+0100
TZNAME:CET
DTSTART:20231029T010000
END:STANDARD
BEGIN:DAYLIGHT
TZOFFSETFROM:+0100
TZOFFSETTO:+0200
TZNAME:CEST
DTSTART:20240331T010000
END:DAYLIGHT
BEGIN:STANDARD
TZOFFSETFROM:+0200
TZOFFSETTO:+0100
TZNAME:CET
DTSTART:20241027T010000
END:STANDARD
BEGIN:DAYLIGHT
TZOFFSETFROM:+0100
TZOFFSETTO:+0200
TZNAME:CEST
DTSTART:20250330T010000
END:DAYLIGHT
BEGIN:STANDARD
TZOFFSETFROM:+0200
TZOFFSETTO:+0100
TZNAME:CET
DTSTART:20251026T010000
END:STANDARD
BEGIN:DAYLIGHT
TZOFFSETFROM:+0100
TZOFFSETTO:+0200
TZNAME:CEST
DTSTART:20260329T010000
END:DAYLIGHT
BEGIN:STANDARD
TZOFFSETFROM:+0200
TZOFFSETTO:+0100
TZNAME:CET
DTSTART:20261025T010000
END:STANDARD
BEGIN:DAYLIGHT
TZOFFSETFROM:+0100
TZOFFSETTO:+0200
TZNAME:CEST
DTSTART:20270328T010000
END:DAYLIGHT
BEGIN:STANDARD
TZOFFSETFROM:+0200
TZOFFSETTO:+0100
TZNAME:CET
DTSTART:20271031T010000
END:STANDARD
END:VTIMEZONE
BEGIN:VEVENT
DTSTART;TZID=Europe/Berlin:20260320T090000
DTEND;TZID=Europe/Berlin:20260320T140000
DTSTAMP:20260424T120255
CREATED:20260221T143139Z
LAST-MODIFIED:20260413T113933Z
UID:10000489-1773997200-1774015200@staging.fleck-dach.de
SUMMARY:Dachdecker-Frühstück bei beda in Köln
DESCRIPTION:FLECK ist beim Dachdecker-Frühstück bei der beda in Köln am Freitag\, dem 20.03.2026\, von 09:00 bis 14:00 Uhr mit dabei. Wie gewohnt finden Sie uns mit einem eigenen Stand direkt vor Ort. \nNutzen Sie die Gelegenheit\, sich in entspannter Atmosphäre über aktuelle Produkte und Lösungen zu informieren und persönlich ins Gespräch zu kommen. Unser Gebietsverkaufsleiter Süd-West und Key Account Manager Großverarbeiter\, Erik Disselbeck\, freut sich darauf\, Sie persönlich begrüßen zu dürfen\, interessante Gespräche zu führen und Ihre Fragen rund um unsere Lösungen zu beantworten. \n  \nPräsentiert von \n \n  \nFür Sie von FLECK vor Ort \nErik Disselbeck\, Key Account Manager Großverarbeiter | Gebietsverkaufsleiter SÜD-WEST (PLZ-Gebiet 50\, 52–56\, 60–62\, 65)
URL:https://staging.fleck-dach.de/termine/dachdecker-fruehstueck-bei-der-beda-in-koeln/
LOCATION:beda bedachungsartikel & Co. KG Köln\, Vogelsanger Str. 350\, Köln\, Nordrhein-Westfalen\, 50827
CATEGORIES:Verarbeiter
ATTACH;FMTTYPE=image/jpeg:https://staging.fleck-dach.de/wp-content/uploads/2023/01/beda-standort-koeln.jpeg
ORGANIZER;CN="beda bedachungsartikel & Co. KG":MAILTO:info@beda-dach.de
END:VEVENT
BEGIN:VEVENT
DTSTART;VALUE=DATE:20250829
DTEND;VALUE=DATE:20250830
DTSTAMP:20260424T120255
CREATED:20250515T132441Z
LAST-MODIFIED:20250515T132441Z
UID:10000389-1756425600-1756511999@staging.fleck-dach.de
SUMMARY:Janssen/beda Biker-Tour 2025
DESCRIPTION:Auch 2025 steht im August wieder die große Fahrt der Janssen/beda Biker-Tour an\, diesmal von Mönchengladbach nach Spa in Belgien. Von FLECK ist in diesem Jahr Geschäftsführer Christoph Nielacny mit dabei\, der sich schon jetzt auf den unmittelbaren Dialog mit Dachhandwerkern und die ausgelassene Stimmung freut. \n  \nPräsentiert von \n \n \n  \nFür Sie von FLECK vor Ort \nChristoph Nielacny\, Geschäftsführer der Fleck GmbH
URL:https://staging.fleck-dach.de/termine/janssenbeda-biker-tour-2025/
LOCATION:Mönchengladbach\, Mönchengladbach\, Nordrhein-Westfalen\, Deutschland
CATEGORIES:Handel,Verarbeiter
ATTACH;FMTTYPE=image/jpeg:https://staging.fleck-dach.de/wp-content/uploads/2023/02/unknown-5.jpeg
ORGANIZER;CN="beda bedachungsartikel & Co. KG":MAILTO:info@beda-dach.de
END:VEVENT
BEGIN:VEVENT
DTSTART;VALUE=DATE:20240823
DTEND;VALUE=DATE:20240824
DTSTAMP:20260424T120255
CREATED:20240314T071956Z
LAST-MODIFIED:20240314T072123Z
UID:10000255-1724371200-1724457599@staging.fleck-dach.de
SUMMARY:Janssen/beda Biker-Tour 2024
DESCRIPTION:Im letzten Jahr folgten 170 Biker aus dem Dachdeckerhandwerk der Einladung und nahmen an der Janssen/beda Biker-Tour teil. Auch 2024 steht im August wieder die große Fahrt an\, diesmal von Düsseldorf nach Frankfurt/Sulzbach. Von FLECK ist erneut Gebietsverkaufsleiter Robert Middeweg mit dabei\, der sich schon jetzt auf den unmittelbaren Dialog mit Dachhandwerkern und die ausgelassene Stimmung freut. \n  \nPräsentiert von \n \n \n  \nFür Sie von FLECK vor Ort \nRobert Middeweg\, Gebietsverkaufsleiter in den PLZ-Bereichen 40-42\, 47\, 51\, 57
URL:https://staging.fleck-dach.de/termine/janssenbeda-biker-tour-2024/
CATEGORIES:Handel,Verarbeiter
ATTACH;FMTTYPE=image/jpeg:https://staging.fleck-dach.de/wp-content/uploads/2023/02/unknown-5.jpeg
ORGANIZER;CN="beda bedachungsartikel & Co. KG":MAILTO:info@beda-dach.de
END:VEVENT
BEGIN:VEVENT
DTSTART;TZID=Europe/Berlin:20240119T090000
DTEND;TZID=Europe/Berlin:20240119T121500
DTSTAMP:20260424T120255
CREATED:20240112T093037Z
LAST-MODIFIED:20240112T093037Z
UID:10000210-1705654800-1705666500@staging.fleck-dach.de
SUMMARY:Sortimentsschulung bei beda in Bonn
DESCRIPTION:Am 19. Januar wird am Standort von beda in Bonn eine Sortimentsschulung mit dem Schwerpunkt „Neuigkeiten und hochwertig“ abgehalten. Mit dabei Gebietsverkaufsleiter Erik Disselbeck von FLECK. \nWeitere Informationen zu der Veranstaltung sowie der Anmeldung folgen noch. \n  \nPräsentiert von \n \n  \nFür Sie von FLECK vor Ort \nErik Disselbeck\, Gebietsverkaufsleiter in den PLZ-Bereichen 50\, 52-56\, 60–69
URL:https://staging.fleck-dach.de/termine/sortimentsschulung-bei-beda-in-bonn/
LOCATION:beda bedachungsartikel & Co. KG Bonn\, Königswinterer Str. 106\, Bonn\, Nordrhein-Westfalen\, 53227
CATEGORIES:Handel,Planer/Architekten,Verarbeiter
ATTACH;FMTTYPE=image/jpeg:https://staging.fleck-dach.de/wp-content/uploads/2023/01/beda-standort-bonn-2.jpeg
ORGANIZER;CN="beda bedachungsartikel & Co. KG":MAILTO:info@beda-dach.de
END:VEVENT
BEGIN:VEVENT
DTSTART;VALUE=DATE:20230818
DTEND;VALUE=DATE:20230820
DTSTAMP:20260424T120255
CREATED:20230223T142212Z
LAST-MODIFIED:20230413T055939Z
UID:10000106-1692316800-1692489599@staging.fleck-dach.de
SUMMARY:Janssen/beda Biker-Tour 2023
DESCRIPTION:2022 folgten knapp 90 Biker:innen aus dem Dachdecker-Handwerk der Einladung und nahmen an der Janssen/beda Biker-Tour teil. Auch dieses Jahr im August steht die große Fahrt wieder an. Von FLECK ist Gebietsverkaufsleiter Robert Middeweg mit dabei\, der sich auch dieses Jahr wieder auf den unmittelbaren Dialog mit Dachhandwerker:innen und die ausgelassene Stimmung freut. \nWeitere Informationen zu der Veranstaltung folgen. \n  \nPräsentiert von \n \n \n  \nFür Sie von FLECK vor Ort \nRobert Middeweg\, Gebietsverkaufsleiter in den PLZ-Bereichen 40-42\, 47\, 51\, 57
URL:https://staging.fleck-dach.de/termine/janssenbeda-biker-tour-2023/
LOCATION:Industriestr. 12\, Datteln\, Nordrhein-Westfalen\, 45711\, Deutschland
CATEGORIES:Handel,Verarbeiter
ATTACH;FMTTYPE=image/jpeg:https://staging.fleck-dach.de/wp-content/uploads/2023/02/unknown-5.jpeg
ORGANIZER;CN="beda bedachungsartikel & Co. KG":MAILTO:info@beda-dach.de
END:VEVENT
BEGIN:VEVENT
DTSTART;TZID=Europe/Berlin:20230413T090000
DTEND;TZID=Europe/Berlin:20230413T140000
DTSTAMP:20260424T120255
CREATED:20230113T094700Z
LAST-MODIFIED:20230126T124424Z
UID:10000051-1681376400-1681394400@staging.fleck-dach.de
SUMMARY:Boxenstopp beda Bonn
DESCRIPTION:Boxenstopp bei beda! Am 12.04.2023 findet dieser in Bonn statt\, genießen Sie ein Dachdeckerfrühstück unter Kolleg:innen und tauschen sich über aktuelle Themen aus. Unser Außendienstmitarbeiter Erik Disselbeck wird allen Teilnehmer:innen an einem Stand unser Dachzubehör präsentieren. \nWeitere Informationen zu der Veranstaltung folgen. \n  \nPräsentiert von \n \n  \nFür Sie von FLECK vor Ort \nErik Disselbeck\, Gebietsverkaufsleiter im Gebiet Süd-West\, PLZ-Bereiche 50\, 52-56\, 60–69
URL:https://staging.fleck-dach.de/termine/boxenstopp-beda-bonn/
LOCATION:beda bedachungsartikel & Co. KG Bonn\, Königswinterer Str. 106\, Bonn\, Nordrhein-Westfalen\, 53227
CATEGORIES:Verarbeiter
ATTACH;FMTTYPE=image/jpeg:https://staging.fleck-dach.de/wp-content/uploads/2023/01/beda-standort-bonn-2.jpeg
ORGANIZER;CN="beda bedachungsartikel & Co. KG":MAILTO:info@beda-dach.de
END:VEVENT
BEGIN:VEVENT
DTSTART;TZID=Europe/Berlin:20230412T090000
DTEND;TZID=Europe/Berlin:20230412T140000
DTSTAMP:20260424T120255
CREATED:20230113T101051Z
LAST-MODIFIED:20230126T124333Z
UID:10000050-1681290000-1681308000@staging.fleck-dach.de
SUMMARY:Boxenstopp beda Köln
DESCRIPTION:Boxenstopp bei beda! Am 12.04.2023 findet dieser in Köln statt\, genießen Sie ein Dachdeckerfrühstück unter Kolleg:innen und tauschen sich über aktuelle Themen aus. Unser Außendienstmitarbeiter Erik Disselbeck wird allen Teilnehmer:innen an einem Stand unser Dachzubehör präsentieren. \nWeitere Informationen zu der Veranstaltung folgen. \n  \nPräsentiert von \n \n  \nFür Sie von FLECK vor Ort \nErik Disselbeck\, Gebietsverkaufsleiter im Gebiet Süd-West\, PLZ-Bereiche 50\, 52-56\, 60–69
URL:https://staging.fleck-dach.de/termine/boxenstopp-beda-koeln/
LOCATION:beda bedachungsartikel & Co. KG Köln\, Vogelsanger Str. 350\, Köln\, Nordrhein-Westfalen\, 50827
CATEGORIES:Verarbeiter
ATTACH;FMTTYPE=image/jpeg:https://staging.fleck-dach.de/wp-content/uploads/2023/01/beda-standort-koeln.jpeg
ORGANIZER;CN="beda bedachungsartikel & Co. KG":MAILTO:info@beda-dach.de
END:VEVENT
END:VCALENDAR