BEGIN:VCALENDAR
VERSION:2.0
PRODID:-//Fleck | Dachzubehör! - ECPv6.15.20//NONSGML v1.0//EN
CALSCALE:GREGORIAN
METHOD:PUBLISH
X-WR-CALNAME:Fleck | Dachzubehör!
X-ORIGINAL-URL:https://staging.fleck-dach.de
X-WR-CALDESC:Veranstaltungen für Fleck | Dachzubehör!
REFRESH-INTERVAL;VALUE=DURATION:PT1H
X-Robots-Tag:noindex
X-PUBLISHED-TTL:PT1H
BEGIN:VTIMEZONE
TZID:Europe/Berlin
BEGIN:DAYLIGHT
TZOFFSETFROM:+0100
TZOFFSETTO:+0200
TZNAME:CEST
DTSTART:20250330T010000
END:DAYLIGHT
BEGIN:STANDARD
TZOFFSETFROM:+0200
TZOFFSETTO:+0100
TZNAME:CET
DTSTART:20251026T010000
END:STANDARD
BEGIN:DAYLIGHT
TZOFFSETFROM:+0100
TZOFFSETTO:+0200
TZNAME:CEST
DTSTART:20260329T010000
END:DAYLIGHT
BEGIN:STANDARD
TZOFFSETFROM:+0200
TZOFFSETTO:+0100
TZNAME:CET
DTSTART:20261025T010000
END:STANDARD
BEGIN:DAYLIGHT
TZOFFSETFROM:+0100
TZOFFSETTO:+0200
TZNAME:CEST
DTSTART:20270328T010000
END:DAYLIGHT
BEGIN:STANDARD
TZOFFSETFROM:+0200
TZOFFSETTO:+0100
TZNAME:CET
DTSTART:20271031T010000
END:STANDARD
END:VTIMEZONE
BEGIN:VEVENT
DTSTART;TZID=Europe/Berlin:20260204T090000
DTEND;TZID=Europe/Berlin:20260204T160000
DTSTAMP:20260419T170617
CREATED:20260108T114121Z
LAST-MODIFIED:20260108T155848Z
UID:10000478-1770195600-1770220800@staging.fleck-dach.de
SUMMARY:Seminar Grundwissen & Praxis Mineralfaser-Dämmstoffe und Steildach-Dämmung der hagebau Dachallianz Fachhandel
DESCRIPTION:Am Mittwoch\, den 04.02.2026 findet im Berufsförderungswerk der Bauindustrie NRW gGmbH von 09:00 bis ca. 16:00 Uhr das Seminar Grundwissen & Praxis Mineralfaser-Dämmstoffe und Steildach-Dämmung statt. Veranstalter ist die Baustoffhandels-Akademie der hagebau Dachallianz Fachhandel. Im Seminar wird wichtiges Grundwissen zu Mineralfaserdämmstoffen vermittelt. Außerdem wird der praktische Einbau einer Steildach-Dämmung unter Berücksichtigung der bauphysikalischen Grundlagen praktiziert. Die Planung und der Einbau der Dampfbremse mit allen Anschlüssen werden ebenfalls gemeinsam vollzogen. Zu den Herausforderungen beim Thema Luftdichtheit gibt es zum Abschluss eine kleine Challenge. Als thematische Ergänzung werden sich die Teilnehmer zudem mit dem Thema Dachzubehör beschäftigen. Dazu gehören bspw. Steildachlüfter und -durchdringungen sowie Solar-Trägerpfannen und Bleiersatz\, über die FLECK-Gebietsverkaufsleiter Alexander Hoffmann informieren wird. \nDie Teilnahme ist kostenlos und auf 16 Personen begrenzt. \n  \nPräsentiert von:  \n \n  \n \n  \n \nFür Sie von FLECK vor Ort \nAlexander Hoffmann\, Gebietsverkaufsleiter in den PLZ-Bereichen 44-46\, 48\, 49\, 58\, 59
URL:https://staging.fleck-dach.de/termine/hagebaubaustofffhandelsakademie-2026/
LOCATION:Berufsförderungswerk der Bauindustrie NRW gGmbH\, Vestische Str.\, Oberhausen\, NRW\, 46117\, Deutschland
CATEGORIES:Planer/Architekten,Verarbeiter
ATTACH;FMTTYPE=image/png:https://staging.fleck-dach.de/wp-content/uploads/2023/01/fle_veranstaltung_steildach.png
END:VEVENT
END:VCALENDAR