BEGIN:VCALENDAR
VERSION:2.0
PRODID:-//Fleck | Dachzubehör! - ECPv6.15.20//NONSGML v1.0//EN
CALSCALE:GREGORIAN
METHOD:PUBLISH
X-ORIGINAL-URL:https://staging.fleck-dach.de
X-WR-CALDESC:Veranstaltungen für Fleck | Dachzubehör!
REFRESH-INTERVAL;VALUE=DURATION:PT1H
X-Robots-Tag:noindex
X-PUBLISHED-TTL:PT1H
BEGIN:VTIMEZONE
TZID:Europe/Berlin
BEGIN:DAYLIGHT
TZOFFSETFROM:+0100
TZOFFSETTO:+0200
TZNAME:CEST
DTSTART:20210328T010000
END:DAYLIGHT
BEGIN:STANDARD
TZOFFSETFROM:+0200
TZOFFSETTO:+0100
TZNAME:CET
DTSTART:20211031T010000
END:STANDARD
BEGIN:DAYLIGHT
TZOFFSETFROM:+0100
TZOFFSETTO:+0200
TZNAME:CEST
DTSTART:20220327T010000
END:DAYLIGHT
BEGIN:STANDARD
TZOFFSETFROM:+0200
TZOFFSETTO:+0100
TZNAME:CET
DTSTART:20221030T010000
END:STANDARD
BEGIN:DAYLIGHT
TZOFFSETFROM:+0100
TZOFFSETTO:+0200
TZNAME:CEST
DTSTART:20230326T010000
END:DAYLIGHT
BEGIN:STANDARD
TZOFFSETFROM:+0200
TZOFFSETTO:+0100
TZNAME:CET
DTSTART:20231029T010000
END:STANDARD
BEGIN:DAYLIGHT
TZOFFSETFROM:+0100
TZOFFSETTO:+0200
TZNAME:CEST
DTSTART:20240331T010000
END:DAYLIGHT
BEGIN:STANDARD
TZOFFSETFROM:+0200
TZOFFSETTO:+0100
TZNAME:CET
DTSTART:20241027T010000
END:STANDARD
BEGIN:DAYLIGHT
TZOFFSETFROM:+0100
TZOFFSETTO:+0200
TZNAME:CEST
DTSTART:20250330T010000
END:DAYLIGHT
BEGIN:STANDARD
TZOFFSETFROM:+0200
TZOFFSETTO:+0100
TZNAME:CET
DTSTART:20251026T010000
END:STANDARD
END:VTIMEZONE
BEGIN:VEVENT
DTSTART;TZID=Europe/Berlin:20240412T110000
DTEND;TZID=Europe/Berlin:20240412T150000
DTSTAMP:20260419T204612
CREATED:20240410T073159Z
LAST-MODIFIED:20240410T073159Z
UID:10000258-1712919600-1712934000@staging.fleck-dach.de
SUMMARY:Angrillen beim DENW in Stemwede
DESCRIPTION:Am 12. April findet am Standort der Dachdecker-Einkauf Nordwest eG (kurz DENW) in Stemwede das alljährliche Angrillen statt. Seit über 100 Jahren bietet die Genossenschaft alles für ein modernes und professionelles Handwerk an. Danny Neuhaus wird vor Ort unser Sortiment präsentieren. \n  \nPräsentiert von \n \n  \nFür Sie von FLECK vor Ort \nDanny Neuhaus\, Gebietsverkaufsleiter im PLZ-Bereich 3
URL:https://staging.fleck-dach.de/termine/angrillen-beim-denw-in-stemwede/
LOCATION:DENW eG Stemwede\, Süsterstraße 15\, Stemwede\, Nordrhein-Westfalen\, 32351\, Deutschland
CATEGORIES:Verarbeiter
ATTACH;FMTTYPE=image/jpeg:https://staging.fleck-dach.de/wp-content/uploads/2024/04/denw_stemwede.jpeg
ORGANIZER;CN="Dachdecker1kauf Nordwest eG":MAILTO:info@denw.de
END:VEVENT
BEGIN:VEVENT
DTSTART;TZID=Europe/Berlin:20240410T110000
DTEND;TZID=Europe/Berlin:20240410T150000
DTSTAMP:20260419T204612
CREATED:20240229T145112Z
LAST-MODIFIED:20240304T062815Z
UID:10000236-1712746800-1712761200@staging.fleck-dach.de
SUMMARY:Angrillen beim DENW Weyhe
DESCRIPTION:Am 10. April findet am Standort der Dachdecker1kauf Nordwest eG (kurz DENW) in Weyhe das erste Angrillen des Jahres statt. Seit über 100 Jahren bietet die Genossenschaft alles für ein modernes und professionelles Handwerk an. Daniel Bläsing wird vor Ort unser Sortiment präsentieren. \n  \nPräsentiert vom \n \n  \nFür Sie von FLECK vor Ort \nDaniel Bläsing\, Gebietsverkaufsleiter im PLZ-Bereich 2 \nChristian Schwarz\, Gebietsverkaufsleiter in den PLZ-Bereichen 01\, 02\, 04–09\, 95–96\, 98–99 \nHubert Jungmann\, Gebietsverkaufsleiter in den PLZ-Bereichen 80–88\, 90–94
URL:https://staging.fleck-dach.de/termine/angrillen-beim-denw-weyhe/
LOCATION:DENW in Weyhe\, Mittelwendung 2\, Weyhe\, Niedersachsen\, 28844
CATEGORIES:Handel,Verarbeiter
ATTACH;FMTTYPE=image/jpeg:https://staging.fleck-dach.de/wp-content/uploads/2023/02/weyhe-scaled-1920x1080-1.jpeg
ORGANIZER;CN="Dachdecker1kauf Nordwest eG":MAILTO:info@denw.de
END:VEVENT
BEGIN:VEVENT
DTSTART;TZID=Europe/Berlin:20240322T120000
DTEND;TZID=Europe/Berlin:20240322T150000
DTSTAMP:20260419T204612
CREATED:20240229T104946Z
LAST-MODIFIED:20240229T105534Z
UID:10000228-1711108800-1711119600@staging.fleck-dach.de
SUMMARY:Angrillen beim DENW in Meppen
DESCRIPTION:Am 22. März findet am Standort der Dachdecker-Einkauf Nordwest eG (kurz DENW) in Meppen das alljährliche Angrillen statt. Seit über 100 Jahren bietet die Genossenschaft alles für ein modernes und professionelles Handwerk an. Alexander Hoffmann wird vor Ort unser Sortiment präsentieren. \n  \nPräsentiert von \n \n  \nFür Sie von FLECK vor Ort \nAlexander Hoffmann\, Gebietsverkaufsleiter in den PLZ-Bereichen 44-46\, 48\, 49\, 58\, 59
URL:https://staging.fleck-dach.de/termine/angrillen-beim-denw-in-meppen/
LOCATION:DENW eG Meppen\, Lanzstraße 11\, Meppen\, Niedersachsen\, 49716\, Deutschland
CATEGORIES:Verarbeiter
ATTACH;FMTTYPE=image/jpeg:https://staging.fleck-dach.de/wp-content/uploads/2024/02/denw_meppen.jpeg
ORGANIZER;CN="Dachdecker1kauf Nordwest eG":MAILTO:info@denw.de
END:VEVENT
BEGIN:VEVENT
DTSTART;TZID=Europe/Berlin:20240315T120000
DTEND;TZID=Europe/Berlin:20240315T150000
DTSTAMP:20260419T204612
CREATED:20240216T142245Z
LAST-MODIFIED:20240229T105351Z
UID:10000219-1710504000-1710514800@staging.fleck-dach.de
SUMMARY:Angrillen beim DENW in Oldenburg
DESCRIPTION:Am 15. März findet am Standort der Dachdecker-Einkauf Nordwest eG (kurz DENW) in Oldenburg das alljährliche Angrillen statt. Seit über 100 Jahren bietet die Genossenschaft alles für ein modernes und professionelles Handwerk an. Daniel Bläsing wird vor Ort unser Sortiment präsentieren. \n  \nPräsentiert von \n \n  \nFür Sie von FLECK vor Ort \nDaniel Bläsing\, Gebietsverkaufsleiter im PLZ-Bereich 2
URL:https://staging.fleck-dach.de/termine/angrillen-beim-denw-in-oldenburg-2024/
LOCATION:DENW in Oldenburg\, Ekernstraße 10\, Oldenburg\, Niedersachsen\, 26125\, Deutschland
CATEGORIES:Handel,Verarbeiter
ATTACH;FMTTYPE=image/jpeg:https://staging.fleck-dach.de/wp-content/uploads/2023/02/oldenburg-scaled-1920x1080-1.jpeg
ORGANIZER;CN="Dachdecker1kauf Nordwest eG":MAILTO:info@denw.de
END:VEVENT
BEGIN:VEVENT
DTSTART;TZID=Europe/Berlin:20231209T100000
DTEND;TZID=Europe/Berlin:20231209T130000
DTSTAMP:20260419T204612
CREATED:20231016T110744Z
LAST-MODIFIED:20231016T110744Z
UID:10000165-1702116000-1702126800@staging.fleck-dach.de
SUMMARY:DENW Tannenbaumschlagen 2023
DESCRIPTION:Am 09. Dezember 2023 findet das Tannenbaumschlagen vom Dachdecker-Einkauf Nordwest eG in Oldenburg statt. Vor Ort wird es eine Tombola mit tollen Gewinnen geben\, deren gesamter Erlös der Jugendförderung der Innung gewidmet wird. \n  \nPräsentiert vom \n \n  \nFür Sie von FLECK vor Ort \nDaniel Bläsing\, Gebietsverkaufsleiter im PLZ-Bereich 2
URL:https://staging.fleck-dach.de/termine/denw-tannenbaumschlagen-2023/
LOCATION:Dachdecker1kauf Nordwest eG\, Ekernstraße 10\, Oldenburg\, Niedersachsen\, 26125
CATEGORIES:Verarbeiter
ATTACH;FMTTYPE=image/jpeg:https://staging.fleck-dach.de/wp-content/uploads/2022/10/fle_tannen.jpg
ORGANIZER;CN="Dachdecker1kauf Nordwest eG":MAILTO:info@denw.de
END:VEVENT
BEGIN:VEVENT
DTSTART;TZID=Europe/Berlin:20230401T110000
DTEND;TZID=Europe/Berlin:20230401T150000
DTSTAMP:20260419T204612
CREATED:20230206T103054Z
LAST-MODIFIED:20230206T103054Z
UID:10000078-1680346800-1680361200@staging.fleck-dach.de
SUMMARY:Angrillen beim DENW in Oldenburg
DESCRIPTION:Am 1. April findet am Standort der Dachdecker-Einkauf Nordwest eG (kurz DENW) in Oldenburg das alljährliche Angrillen statt. Seit über 100 Jahren bietet die Genossenschaft alles für ein modernes und professionelles Handwerk an. Daniel Bläsing wird vor Ort unser Sortiment präsentieren. \nWeitere Informationen zu der Veranstaltung folgen. \n  \nPräsentiert vom \n \nFür Sie von FLECK vor Ort \nDaniel Bläsing\, Gebietsverkaufsleiter im Gebiet Nord\, PLZ-Bereich 2
URL:https://staging.fleck-dach.de/termine/angrillen-beim-denw-in-oldenburg/
LOCATION:DENW in Oldenburg\, Ekernstraße 10\, Oldenburg\, Niedersachsen\, 26125\, Deutschland
CATEGORIES:Handel,Verarbeiter
ATTACH;FMTTYPE=image/jpeg:https://staging.fleck-dach.de/wp-content/uploads/2023/02/oldenburg-scaled-1920x1080-1.jpeg
ORGANIZER;CN="Dachdecker1kauf Nordwest eG":MAILTO:info@denw.de
END:VEVENT
BEGIN:VEVENT
DTSTART;TZID=Europe/Berlin:20230322T110000
DTEND;TZID=Europe/Berlin:20230322T150000
DTSTAMP:20260419T204612
CREATED:20230206T095954Z
LAST-MODIFIED:20230206T102555Z
UID:10000072-1679482800-1679497200@staging.fleck-dach.de
SUMMARY:Angrillen beim DENW Weyhe
DESCRIPTION:Am 22. März findet am Standort der Dachdecker-Einkauf Nordwest eG (kurz DENW) in Weyhe das erste Angrillen des Jahres statt. Seit über 100 Jahren bietet die Genossenschaft alles für ein modernes und professionelles Handwerk an. Daniel Bläsing wird vor Ort unser Sortiment präsentieren. \nWeitere Informationen zu der Veranstaltung folgen. \n  \nPräsentiert vom \n \nFür Sie von FLECK vor Ort \nDaniel Bläsing\, Gebietsverkaufsleiter im Gebiet Nord\, PLZ-Bereich 2
URL:https://staging.fleck-dach.de/termine/angrillen-bei-denw-weyhe/
LOCATION:DENW in Weyhe\, Mittelwendung 2\, Weyhe\, Niedersachsen\, 28844
CATEGORIES:Handel,Verarbeiter
ATTACH;FMTTYPE=image/jpeg:https://staging.fleck-dach.de/wp-content/uploads/2023/02/weyhe-scaled-1920x1080-1.jpeg
ORGANIZER;CN="Dachdecker1kauf Nordwest eG":MAILTO:info@denw.de
END:VEVENT
BEGIN:VEVENT
DTSTART;VALUE=DATE:20221217
DTEND;VALUE=DATE:20221218
DTSTAMP:20260419T204612
CREATED:20221020T094741Z
LAST-MODIFIED:20221205T135809Z
UID:10000017-1671235200-1671321599@staging.fleck-dach.de
SUMMARY:DENW Tannenbaumschlagen 2022
DESCRIPTION:Am 17. Dezember 2022 findet das Tannenbaumschlagen vom Dachdecker-Einkauf Nordwest eG in Oldenburg statt. Vor Ort wird es eine Tombola mit tollen Gewinnen geben\, deren gesamter Erlös der Jugendförderung der Innung gewidmet wird. \n  \nPräsentiert vom \n \n  \nFür Sie von FLECK vor Ort \nDaniel Bläsing\, Außendienstmitarbeiter für den Bereich NORD\, PLZ-Bereich 2
URL:https://staging.fleck-dach.de/termine/denw-tannenbaumschlagen-2022/
LOCATION:Dachdecker1kauf Nordwest eG\, Ekernstraße 10\, Oldenburg\, Niedersachsen\, 26125
CATEGORIES:Verarbeiter
ATTACH;FMTTYPE=image/jpeg:https://staging.fleck-dach.de/wp-content/uploads/2022/10/fle_tannen.jpg
ORGANIZER;CN="Dachdecker1kauf Nordwest eG":MAILTO:info@denw.de
END:VEVENT
END:VCALENDAR