BEGIN:VCALENDAR
VERSION:2.0
PRODID:-//Fleck | Dachzubehör! - ECPv6.15.20//NONSGML v1.0//EN
CALSCALE:GREGORIAN
METHOD:PUBLISH
X-WR-CALNAME:Fleck | Dachzubehör!
X-ORIGINAL-URL:https://staging.fleck-dach.de
X-WR-CALDESC:Veranstaltungen für Fleck | Dachzubehör!
REFRESH-INTERVAL;VALUE=DURATION:PT1H
X-Robots-Tag:noindex
X-PUBLISHED-TTL:PT1H
BEGIN:VTIMEZONE
TZID:Europe/Berlin
BEGIN:DAYLIGHT
TZOFFSETFROM:+0100
TZOFFSETTO:+0200
TZNAME:CEST
DTSTART:20220327T010000
END:DAYLIGHT
BEGIN:STANDARD
TZOFFSETFROM:+0200
TZOFFSETTO:+0100
TZNAME:CET
DTSTART:20221030T010000
END:STANDARD
BEGIN:DAYLIGHT
TZOFFSETFROM:+0100
TZOFFSETTO:+0200
TZNAME:CEST
DTSTART:20230326T010000
END:DAYLIGHT
BEGIN:STANDARD
TZOFFSETFROM:+0200
TZOFFSETTO:+0100
TZNAME:CET
DTSTART:20231029T010000
END:STANDARD
BEGIN:DAYLIGHT
TZOFFSETFROM:+0100
TZOFFSETTO:+0200
TZNAME:CEST
DTSTART:20240331T010000
END:DAYLIGHT
BEGIN:STANDARD
TZOFFSETFROM:+0200
TZOFFSETTO:+0100
TZNAME:CET
DTSTART:20241027T010000
END:STANDARD
END:VTIMEZONE
BEGIN:VEVENT
DTSTART;VALUE=DATE:20230825
DTEND;VALUE=DATE:20230826
DTSTAMP:20260419T171248
CREATED:20230714T053126Z
LAST-MODIFIED:20230714T053126Z
UID:10000145-1692921600-1693007999@staging.fleck-dach.de
SUMMARY:17. Gemeinsamer Landesverbandstag des Zimmerer- und Holzbau-Verbandes Nordrhein sowie des Dachdecker-Verbandes Nordrhein
DESCRIPTION:Es ist wieder so weit: Zum 17. Gemeinsamen Landesverbandstag des Zimmerer- und Holzbau-Verbandes Nordrhein sowie des Dachdecker-Verbandes Nordrhein wird Gebietsverkaufsleiter Robert Middeweg die Firma FLECK mit einem Messestand repräsentieren. Eingeladen wird in das Landhotel Krummenweg in Ratingen. \nWeitere Informationen zu der Veranstaltung folgen hier. \n  \nPräsentiert vom: \n \n  \nFür Sie von FLECK vor Ort \nRobert Middeweg\, Gebietsverkaufsleiter in den PLZ-Bereichen 40-42\, 47\, 51\, 57
URL:https://staging.fleck-dach.de/termine/17-gemeinsamer-landesverbandstag-des-zimmerer-und-holzbau-verbandes-nordrhein-sowie-des-dachdecker-verbandes-nordrhein/
LOCATION:Landhotel Krummenweg Ratingen\, Am Krummenweg 1\, Ratingen\, Nordrhein-Westfalen\, 40885\, Deutschland
CATEGORIES:Verarbeiter
ATTACH;FMTTYPE=image/jpeg:https://staging.fleck-dach.de/wp-content/uploads/2023/07/20221028_094724-kopie-e1693820359316.jpg
ORGANIZER;CN="Dachdecker Verband Nordrhein":MAILTO:info@dachdecker-verband-nr.de
END:VEVENT
END:VCALENDAR