BEGIN:VCALENDAR
VERSION:2.0
PRODID:-//Fleck | Dachzubehör! - ECPv6.15.20//NONSGML v1.0//EN
CALSCALE:GREGORIAN
METHOD:PUBLISH
X-WR-CALNAME:Fleck | Dachzubehör!
X-ORIGINAL-URL:https://staging.fleck-dach.de
X-WR-CALDESC:Veranstaltungen für Fleck | Dachzubehör!
REFRESH-INTERVAL;VALUE=DURATION:PT1H
X-Robots-Tag:noindex
X-PUBLISHED-TTL:PT1H
BEGIN:VTIMEZONE
TZID:Europe/Berlin
BEGIN:DAYLIGHT
TZOFFSETFROM:+0100
TZOFFSETTO:+0200
TZNAME:CEST
DTSTART:20240331T010000
END:DAYLIGHT
BEGIN:STANDARD
TZOFFSETFROM:+0200
TZOFFSETTO:+0100
TZNAME:CET
DTSTART:20241027T010000
END:STANDARD
BEGIN:DAYLIGHT
TZOFFSETFROM:+0100
TZOFFSETTO:+0200
TZNAME:CEST
DTSTART:20250330T010000
END:DAYLIGHT
BEGIN:STANDARD
TZOFFSETFROM:+0200
TZOFFSETTO:+0100
TZNAME:CET
DTSTART:20251026T010000
END:STANDARD
BEGIN:DAYLIGHT
TZOFFSETFROM:+0100
TZOFFSETTO:+0200
TZNAME:CEST
DTSTART:20260329T010000
END:DAYLIGHT
BEGIN:STANDARD
TZOFFSETFROM:+0200
TZOFFSETTO:+0100
TZNAME:CET
DTSTART:20261025T010000
END:STANDARD
END:VTIMEZONE
BEGIN:VEVENT
DTSTART;VALUE=DATE:20250123
DTEND;VALUE=DATE:20250124
DTSTAMP:20260419T205120
CREATED:20240229T102055Z
LAST-MODIFIED:20241218T100632Z
UID:10000225-1737590400-1737676799@staging.fleck-dach.de
SUMMARY:DEG Boxenstopp 2025 Lichterfelde
DESCRIPTION:Verarbeiter haben beim Boxenstopp der DEG die Möglichkeit wichtiges Fachwissen zu tanken und News aus der Branche zu erhalten. Die Fachvorträge und begleitenden Produktvorstellungen bieten einen Erfahrungsaustausch aus erster Hand – von Experten für Experten. Unser Gebietsverkaufsleiter Olaf Bellack wird vor Ort die FLECK-Produkte vorstellen. \n  \nPräsentiert von \n \nFür Sie von FLECK vor Ort \nOlaf Bellack\, Gebietsverkaufsleiter in den PLZ-Bereichen 1\, 03
URL:https://staging.fleck-dach.de/termine/deg-boxenstopp-2025-lichterfelde/
LOCATION:Dachdecker1kauf Ost eG Berlin-Lichterfelde\, Ostpreußendamm 140-143\, Berlin\, Berlin\, 12207\, Deutschland
CATEGORIES:Verarbeiter
ATTACH;FMTTYPE=image/jpeg:https://staging.fleck-dach.de/wp-content/uploads/2023/01/fleck_berlin.jpg
ORGANIZER;CN="Dachdecker1kauf Ost eG Berlin-Lichterfelde":MAILTO:berlin-lichterfelde@dachdecker1kauf.de
END:VEVENT
END:VCALENDAR