BEGIN:VCALENDAR
VERSION:2.0
PRODID:-//Fleck | Dachzubehör! - ECPv6.15.20//NONSGML v1.0//EN
CALSCALE:GREGORIAN
METHOD:PUBLISH
X-WR-CALNAME:Fleck | Dachzubehör!
X-ORIGINAL-URL:https://staging.fleck-dach.de
X-WR-CALDESC:Veranstaltungen für Fleck | Dachzubehör!
REFRESH-INTERVAL;VALUE=DURATION:PT1H
X-Robots-Tag:noindex
X-PUBLISHED-TTL:PT1H
BEGIN:VTIMEZONE
TZID:Europe/Berlin
BEGIN:DAYLIGHT
TZOFFSETFROM:+0100
TZOFFSETTO:+0200
TZNAME:CEST
DTSTART:20240331T010000
END:DAYLIGHT
BEGIN:STANDARD
TZOFFSETFROM:+0200
TZOFFSETTO:+0100
TZNAME:CET
DTSTART:20241027T010000
END:STANDARD
BEGIN:DAYLIGHT
TZOFFSETFROM:+0100
TZOFFSETTO:+0200
TZNAME:CEST
DTSTART:20250330T010000
END:DAYLIGHT
BEGIN:STANDARD
TZOFFSETFROM:+0200
TZOFFSETTO:+0100
TZNAME:CET
DTSTART:20251026T010000
END:STANDARD
BEGIN:DAYLIGHT
TZOFFSETFROM:+0100
TZOFFSETTO:+0200
TZNAME:CEST
DTSTART:20260329T010000
END:DAYLIGHT
BEGIN:STANDARD
TZOFFSETFROM:+0200
TZOFFSETTO:+0100
TZNAME:CET
DTSTART:20261025T010000
END:STANDARD
END:VTIMEZONE
BEGIN:VEVENT
DTSTART;VALUE=DATE:20250910
DTEND;VALUE=DATE:20250915
DTSTAMP:20260419T220436
CREATED:20250428T125551Z
LAST-MODIFIED:20250804T073537Z
UID:10000385-1757462400-1757894399@staging.fleck-dach.de
SUMMARY:70. Nordbau 2025
DESCRIPTION:Vom 10.09. bis 14.09.2025 findet die 70. NORDBAU auf dem Gelände der Holstenhallen Neumünster statt. Auf rund 69.000 m² Freigelände und über 20.000 m² Hallenfläche trifft sich die Baubranche – mit etwa 700 Ausstellern aus 15 Ländern und rund 50.000 erwarteten Besuchern. Auch FLECK ist gemeinsam mit Ampack\, einem Verbundpartner der FLECK Akademie\, vor Ort vertreten. Am Messestand präsentieren unsere FLECK-Gebietsverkaufsleiter Olaf Bellack und Daniel Bläsing die neuesten FLECK-Produkte. \nDie NORDBAU ist die bedeutendste Kompaktbaumesse Nordeuropas und des Ostseeraums. Ergänzt wird das Angebot durch über 40 Seminare und Veranstaltungen\, von denen etwa die Hälfte als offizielle Fortbildung durch die Architekten- und Ingenieurkammer Schleswig-Holstein anerkannt ist. \nWeitere Informationen zu der Messe finden Sie hier. \n  \nBildquelle: Holstenhallen Neumünster – NordBau – SixConcept \n  \nPräsentiert von \n \nFür Sie von FLECK vor Ort \n\nOlaf Bellack\, Gebietsverkaufsleiter in den PLZ-Bereichen 1\, 03 \nDaniel Bläsing\, Gebietsverkaufsleiter im PLZ-Bereich 2
URL:https://staging.fleck-dach.de/termine/70-nordbau-2025/
LOCATION:NordBau Messe Justus-von-Liebig-Straße 2\, 24537 Neumünster\, Justus-von-Liebig-Straße 2\, Neumünster\, Schleswig-Holstein.\, 24537\, Deutschland
CATEGORIES:Handel,Planer/Architekten,Verarbeiter
ATTACH;FMTTYPE=image/jpeg:https://staging.fleck-dach.de/wp-content/uploads/2025/04/pressekonferenz-norbau-2024-scaled.jpg
ORGANIZER;CN="NordBau":MAILTO:messeleitung@nordbau.de
END:VEVENT
END:VCALENDAR