BEGIN:VCALENDAR
VERSION:2.0
PRODID:-//Fleck | Dachzubehör! - ECPv6.15.20//NONSGML v1.0//EN
CALSCALE:GREGORIAN
METHOD:PUBLISH
X-ORIGINAL-URL:https://staging.fleck-dach.de
X-WR-CALDESC:Veranstaltungen für Fleck | Dachzubehör!
REFRESH-INTERVAL;VALUE=DURATION:PT1H
X-Robots-Tag:noindex
X-PUBLISHED-TTL:PT1H
BEGIN:VTIMEZONE
TZID:Europe/Berlin
BEGIN:DAYLIGHT
TZOFFSETFROM:+0100
TZOFFSETTO:+0200
TZNAME:CEST
DTSTART:20220327T010000
END:DAYLIGHT
BEGIN:STANDARD
TZOFFSETFROM:+0200
TZOFFSETTO:+0100
TZNAME:CET
DTSTART:20221030T010000
END:STANDARD
BEGIN:DAYLIGHT
TZOFFSETFROM:+0100
TZOFFSETTO:+0200
TZNAME:CEST
DTSTART:20230326T010000
END:DAYLIGHT
BEGIN:STANDARD
TZOFFSETFROM:+0200
TZOFFSETTO:+0100
TZNAME:CET
DTSTART:20231029T010000
END:STANDARD
BEGIN:DAYLIGHT
TZOFFSETFROM:+0100
TZOFFSETTO:+0200
TZNAME:CEST
DTSTART:20240331T010000
END:DAYLIGHT
BEGIN:STANDARD
TZOFFSETFROM:+0200
TZOFFSETTO:+0100
TZNAME:CET
DTSTART:20241027T010000
END:STANDARD
BEGIN:DAYLIGHT
TZOFFSETFROM:+0100
TZOFFSETTO:+0200
TZNAME:CEST
DTSTART:20250330T010000
END:DAYLIGHT
BEGIN:STANDARD
TZOFFSETFROM:+0200
TZOFFSETTO:+0100
TZNAME:CET
DTSTART:20251026T010000
END:STANDARD
BEGIN:DAYLIGHT
TZOFFSETFROM:+0100
TZOFFSETTO:+0200
TZNAME:CEST
DTSTART:20260329T010000
END:DAYLIGHT
BEGIN:STANDARD
TZOFFSETFROM:+0200
TZOFFSETTO:+0100
TZNAME:CET
DTSTART:20261025T010000
END:STANDARD
END:VTIMEZONE
BEGIN:VEVENT
DTSTART;TZID=Europe/Berlin:20250225T093000
DTEND;TZID=Europe/Berlin:20250225T150000
DTSTAMP:20260419T173630
CREATED:20240909T122047Z
LAST-MODIFIED:20250224T121841Z
UID:10000306-1740475800-1740495600@staging.fleck-dach.de
SUMMARY:Baustoff Speed Training 2025 St. Pölten
DESCRIPTION:Das österreichische Baustoffausbildungszentrum wird 2025 wieder das Baustoff Speed Training durchführen. Am 25. Februar findet der Termin als Webinar statt. Top-Industrien präsentieren ihre Produktneuheiten. Dafür werden Kurzreferate zur Vertiefung des jeweiligen Produktwissens abgehalten. Den Anfang an dem Tag macht FLECK-Produktmanager Peter Nowack. \nWeitere Informationen und das Anmeldeformular finden Sie hier. \n  \nPräsentiert von \n \n  \nFür Sie von FLECK vor Ort \nPeter Nowack\, Produktmanager und Spezialist für Dachzubehör
URL:https://staging.fleck-dach.de/termine/baustoff-speed-training-2025-st-poelten/
LOCATION:Online
CATEGORIES:Handel
ATTACH;FMTTYPE=image/jpeg:https://staging.fleck-dach.de/wp-content/uploads/2022/10/fle_event_rockwool-schulung_darmstadt.jpg
ORGANIZER;CN="%C3%96sterreichisches Baustoff Ausbildungszentrum":MAILTO:office@baustoff-ausbildung.at
END:VEVENT
BEGIN:VEVENT
DTSTART;TZID=Europe/Berlin:20230307T093000
DTEND;TZID=Europe/Berlin:20230307T160000
DTSTAMP:20260419T173630
CREATED:20221020T092334Z
LAST-MODIFIED:20221205T132945Z
UID:10000022-1678181400-1678204800@staging.fleck-dach.de
SUMMARY:Baustoff Speed Training 2023 Graz
DESCRIPTION:26 Top-Industrien präsentieren ihre Produktneuheiten. Die Industrievertreter stehen den Teilnehmer:innen für individuelle Fragen und Gespräche zur Verfügung. Parallel dazu werden Kurzreferate zur Vertiefung des jeweiligen Produktwissens abgehalten. \nWeitere Informationen und das Anmeldeformular finden Sie hier. \n  \nPräsentiert von \n \n  \nFür Sie von FLECK vor Ort \nPeter Nowack\, Produktmanager und Spezialist für Dachzubehör
URL:https://staging.fleck-dach.de/termine/baustoff-speed-training-2023-graz/
LOCATION:Hotel Ramada Graz\, Seering 10\, Premstätten\, Österreich\, 8141
CATEGORIES:Handel
ATTACH;FMTTYPE=image/jpeg:https://staging.fleck-dach.de/wp-content/uploads/2022/10/fle_event_rockwool-schulung_darmstadt.jpg
ORGANIZER;CN="%C3%96sterreichisches Baustoff Ausbildungszentrum":MAILTO:office@baustoff-ausbildung.at
END:VEVENT
BEGIN:VEVENT
DTSTART;TZID=Europe/Berlin:20230223T093000
DTEND;TZID=Europe/Berlin:20230223T160000
DTSTAMP:20260419T173630
CREATED:20221020T091915Z
LAST-MODIFIED:20221205T133339Z
UID:10000020-1677144600-1677168000@staging.fleck-dach.de
SUMMARY:Baustoff Speed Training 2023 St. Pölten
DESCRIPTION:26 Top-Industrien präsentieren ihre Produktneuheiten. Die Industrievertreter stehen den Teilnehmer:innen für individuelle Fragen und Gespräche zur Verfügung. Parallel dazu werden Kurzreferate zur Vertiefung des jeweiligen Produktwissens abgehalten. \nWeitere Informationen und das Anmeldeformular finden Sie hier. \n  \nPräsentiert von \n \n  \nFür Sie von FLECK vor Ort \nChristoph Nielacny\, Geschäftsführer \nFlorian Kurzbauer\, Außendienstmitarbeiter für Österreich \nAdrian Burkart\, Innendienstmitarbeiter
URL:https://staging.fleck-dach.de/termine/baustoff-speed-training-2023-st-poelten/
LOCATION:Hotel Metropol\, Schillerplatz 1\, St. Pölten\, Österreich\, 3100\, Österreich
CATEGORIES:Handel
ATTACH;FMTTYPE=image/jpeg:https://staging.fleck-dach.de/wp-content/uploads/2022/10/fle_event_rockwool-schulung_darmstadt.jpg
ORGANIZER;CN="%C3%96sterreichisches Baustoff Ausbildungszentrum":MAILTO:office@baustoff-ausbildung.at
END:VEVENT
END:VCALENDAR