BEGIN:VCALENDAR
VERSION:2.0
PRODID:-//Fleck | Dachzubehör! - ECPv6.15.20//NONSGML v1.0//EN
CALSCALE:GREGORIAN
METHOD:PUBLISH
X-WR-CALNAME:Fleck | Dachzubehör!
X-ORIGINAL-URL:https://staging.fleck-dach.de
X-WR-CALDESC:Veranstaltungen für Fleck | Dachzubehör!
REFRESH-INTERVAL;VALUE=DURATION:PT1H
X-Robots-Tag:noindex
X-PUBLISHED-TTL:PT1H
BEGIN:VTIMEZONE
TZID:Europe/Berlin
BEGIN:DAYLIGHT
TZOFFSETFROM:+0100
TZOFFSETTO:+0200
TZNAME:CEST
DTSTART:20240331T010000
END:DAYLIGHT
BEGIN:STANDARD
TZOFFSETFROM:+0200
TZOFFSETTO:+0100
TZNAME:CET
DTSTART:20241027T010000
END:STANDARD
BEGIN:DAYLIGHT
TZOFFSETFROM:+0100
TZOFFSETTO:+0200
TZNAME:CEST
DTSTART:20250330T010000
END:DAYLIGHT
BEGIN:STANDARD
TZOFFSETFROM:+0200
TZOFFSETTO:+0100
TZNAME:CET
DTSTART:20251026T010000
END:STANDARD
BEGIN:DAYLIGHT
TZOFFSETFROM:+0100
TZOFFSETTO:+0200
TZNAME:CEST
DTSTART:20260329T010000
END:DAYLIGHT
BEGIN:STANDARD
TZOFFSETFROM:+0200
TZOFFSETTO:+0100
TZNAME:CET
DTSTART:20261025T010000
END:STANDARD
END:VTIMEZONE
BEGIN:VEVENT
DTSTART;VALUE=DATE:20251003
DTEND;VALUE=DATE:20251004
DTSTAMP:20260421T203340
CREATED:20251031T104404Z
LAST-MODIFIED:20251031T104404Z
UID:10000418-1759449600-1759535999@staging.fleck-dach.de
SUMMARY:Oktoberfest Austrodach Bergheim
DESCRIPTION:Am 3. Oktober findet bereits zum vierten Mal das Oktoberfest von Astrodach statt. Ab 15 Uhr geht es los um das gemütliche zusammensein bei Bier\, Brezn und Weißwurst kann starten. Highlight: Ab 18 Uhr gibt es Spanferkel. Von FLECK mit vor Ort ist unser Handelsvertreter Florian Kurzbauer. \n  \nPräsentiert von \n \n  \nFür Sie von FLECK vor Ort \nFlorian Kurzbauer\, Handelsvertreter in Österreich
URL:https://staging.fleck-dach.de/termine/oktoberfest-austrodach-bergheim/
LOCATION:Austrodach\, Handelszentrum 1\, Bergheim\, A-5101\, Austria
CATEGORIES:Verarbeiter
ATTACH;FMTTYPE=image/jpeg:https://staging.fleck-dach.de/wp-content/uploads/2025/10/251007-fle-veranstaltung-oktoberfest-scaled-e1761907426740.jpeg
ORGANIZER;CN="Vereinigung ehemaliger Sch%C3%BCler der Dachdeckerfachschule Eslohe e.V.":MAILTO:Tobias.Schnabel@LempHirz.de
END:VEVENT
END:VCALENDAR