BEGIN:VCALENDAR
VERSION:2.0
PRODID:-//Fleck | Dachzubehör! - ECPv6.15.20//NONSGML v1.0//EN
CALSCALE:GREGORIAN
METHOD:PUBLISH
X-ORIGINAL-URL:https://staging.fleck-dach.de
X-WR-CALDESC:Veranstaltungen für Fleck | Dachzubehör!
REFRESH-INTERVAL;VALUE=DURATION:PT1H
X-Robots-Tag:noindex
X-PUBLISHED-TTL:PT1H
BEGIN:VTIMEZONE
TZID:Europe/Berlin
BEGIN:DAYLIGHT
TZOFFSETFROM:+0100
TZOFFSETTO:+0200
TZNAME:CEST
DTSTART:20210328T010000
END:DAYLIGHT
BEGIN:STANDARD
TZOFFSETFROM:+0200
TZOFFSETTO:+0100
TZNAME:CET
DTSTART:20211031T010000
END:STANDARD
BEGIN:DAYLIGHT
TZOFFSETFROM:+0100
TZOFFSETTO:+0200
TZNAME:CEST
DTSTART:20220327T010000
END:DAYLIGHT
BEGIN:STANDARD
TZOFFSETFROM:+0200
TZOFFSETTO:+0100
TZNAME:CET
DTSTART:20221030T010000
END:STANDARD
BEGIN:DAYLIGHT
TZOFFSETFROM:+0100
TZOFFSETTO:+0200
TZNAME:CEST
DTSTART:20230326T010000
END:DAYLIGHT
BEGIN:STANDARD
TZOFFSETFROM:+0200
TZOFFSETTO:+0100
TZNAME:CET
DTSTART:20231029T010000
END:STANDARD
BEGIN:DAYLIGHT
TZOFFSETFROM:+0100
TZOFFSETTO:+0200
TZNAME:CEST
DTSTART:20240331T010000
END:DAYLIGHT
BEGIN:STANDARD
TZOFFSETFROM:+0200
TZOFFSETTO:+0100
TZNAME:CET
DTSTART:20241027T010000
END:STANDARD
END:VTIMEZONE
BEGIN:VEVENT
DTSTART;TZID=Europe/Berlin:20231209T100000
DTEND;TZID=Europe/Berlin:20231209T130000
DTSTAMP:20260419T233038
CREATED:20231016T110744Z
LAST-MODIFIED:20231016T110744Z
UID:10000165-1702116000-1702126800@staging.fleck-dach.de
SUMMARY:DENW Tannenbaumschlagen 2023
DESCRIPTION:Am 09. Dezember 2023 findet das Tannenbaumschlagen vom Dachdecker-Einkauf Nordwest eG in Oldenburg statt. Vor Ort wird es eine Tombola mit tollen Gewinnen geben\, deren gesamter Erlös der Jugendförderung der Innung gewidmet wird. \n  \nPräsentiert vom \n \n  \nFür Sie von FLECK vor Ort \nDaniel Bläsing\, Gebietsverkaufsleiter im PLZ-Bereich 2
URL:https://staging.fleck-dach.de/termine/denw-tannenbaumschlagen-2023/
LOCATION:Dachdecker1kauf Nordwest eG\, Ekernstraße 10\, Oldenburg\, Niedersachsen\, 26125
CATEGORIES:Verarbeiter
ATTACH;FMTTYPE=image/jpeg:https://staging.fleck-dach.de/wp-content/uploads/2022/10/fle_tannen.jpg
ORGANIZER;CN="Dachdecker1kauf Nordwest eG":MAILTO:info@denw.de
END:VEVENT
BEGIN:VEVENT
DTSTART;VALUE=DATE:20221217
DTEND;VALUE=DATE:20221218
DTSTAMP:20260419T233038
CREATED:20221020T094741Z
LAST-MODIFIED:20221205T135809Z
UID:10000017-1671235200-1671321599@staging.fleck-dach.de
SUMMARY:DENW Tannenbaumschlagen 2022
DESCRIPTION:Am 17. Dezember 2022 findet das Tannenbaumschlagen vom Dachdecker-Einkauf Nordwest eG in Oldenburg statt. Vor Ort wird es eine Tombola mit tollen Gewinnen geben\, deren gesamter Erlös der Jugendförderung der Innung gewidmet wird. \n  \nPräsentiert vom \n \n  \nFür Sie von FLECK vor Ort \nDaniel Bläsing\, Außendienstmitarbeiter für den Bereich NORD\, PLZ-Bereich 2
URL:https://staging.fleck-dach.de/termine/denw-tannenbaumschlagen-2022/
LOCATION:Dachdecker1kauf Nordwest eG\, Ekernstraße 10\, Oldenburg\, Niedersachsen\, 26125
CATEGORIES:Verarbeiter
ATTACH;FMTTYPE=image/jpeg:https://staging.fleck-dach.de/wp-content/uploads/2022/10/fle_tannen.jpg
ORGANIZER;CN="Dachdecker1kauf Nordwest eG":MAILTO:info@denw.de
END:VEVENT
END:VCALENDAR