BEGIN:VCALENDAR
VERSION:2.0
PRODID:-//Fleck | Dachzubehör! - ECPv6.15.20//NONSGML v1.0//EN
CALSCALE:GREGORIAN
METHOD:PUBLISH
X-WR-CALNAME:Fleck | Dachzubehör!
X-ORIGINAL-URL:https://staging.fleck-dach.de
X-WR-CALDESC:Veranstaltungen für Fleck | Dachzubehör!
REFRESH-INTERVAL;VALUE=DURATION:PT1H
X-Robots-Tag:noindex
X-PUBLISHED-TTL:PT1H
BEGIN:VTIMEZONE
TZID:Europe/Berlin
BEGIN:DAYLIGHT
TZOFFSETFROM:+0100
TZOFFSETTO:+0200
TZNAME:CEST
DTSTART:20230326T010000
END:DAYLIGHT
BEGIN:STANDARD
TZOFFSETFROM:+0200
TZOFFSETTO:+0100
TZNAME:CET
DTSTART:20231029T010000
END:STANDARD
BEGIN:DAYLIGHT
TZOFFSETFROM:+0100
TZOFFSETTO:+0200
TZNAME:CEST
DTSTART:20240331T010000
END:DAYLIGHT
BEGIN:STANDARD
TZOFFSETFROM:+0200
TZOFFSETTO:+0100
TZNAME:CET
DTSTART:20241027T010000
END:STANDARD
BEGIN:DAYLIGHT
TZOFFSETFROM:+0100
TZOFFSETTO:+0200
TZNAME:CEST
DTSTART:20250330T010000
END:DAYLIGHT
BEGIN:STANDARD
TZOFFSETFROM:+0200
TZOFFSETTO:+0100
TZNAME:CET
DTSTART:20251026T010000
END:STANDARD
END:VTIMEZONE
BEGIN:VEVENT
DTSTART;TZID=Europe/Berlin:20240202T180000
DTEND;TZID=Europe/Berlin:20240202T220000
DTSTAMP:20260419T173004
CREATED:20240130T133516Z
LAST-MODIFIED:20240130T133926Z
UID:10000216-1706896800-1706911200@staging.fleck-dach.de
SUMMARY:Festabend DEG Soltau
DESCRIPTION:Am 2. Februar lädt die Dachdecker-Einkauf Soltau e.G. im Anschluss an die 99. Generalversammlung zum Festabend in die „Alte Reithalle“ in Soltau ein. Seitens FLECK folgen unser Geschäftsführer Christoph Nielacny und Gebietsverkaufsleiter Daniel Bläsing der Einladung. \n  \nPräsentiert von \n \n  \nFür Sie von FLECK vor Ort \nChristoph Nielacny\, Geschäftsführer der Fleck GmbH \nDaniel Bläsing\, Gebietsverkaufsleiter im PLZ-Bereich 2
URL:https://staging.fleck-dach.de/termine/festabend-deg-soltau/
LOCATION:Dachdecker-Einkauf Soltau e.G.\, Willinger Weg 19/21\, Soltau\, Niedersachsen\, 29614\, Deutschland
CATEGORIES:Handel,Verarbeiter
ATTACH;FMTTYPE=image/jpeg:https://staging.fleck-dach.de/wp-content/uploads/2024/01/alte-reithalle-soltau.jpeg
ORGANIZER;CN="Dachdecker-Einkauf Soltau e.G.":MAILTO:info@dachdecker-einkauf-soltau.de
END:VEVENT
END:VCALENDAR