BEGIN:VCALENDAR
VERSION:2.0
PRODID:-//Fleck | Dachzubehör! - ECPv6.15.20//NONSGML v1.0//EN
CALSCALE:GREGORIAN
METHOD:PUBLISH
X-ORIGINAL-URL:https://staging.fleck-dach.de
X-WR-CALDESC:Veranstaltungen für Fleck | Dachzubehör!
REFRESH-INTERVAL;VALUE=DURATION:PT1H
X-Robots-Tag:noindex
X-PUBLISHED-TTL:PT1H
BEGIN:VTIMEZONE
TZID:Europe/Berlin
BEGIN:DAYLIGHT
TZOFFSETFROM:+0100
TZOFFSETTO:+0200
TZNAME:CEST
DTSTART:20230326T010000
END:DAYLIGHT
BEGIN:STANDARD
TZOFFSETFROM:+0200
TZOFFSETTO:+0100
TZNAME:CET
DTSTART:20231029T010000
END:STANDARD
BEGIN:DAYLIGHT
TZOFFSETFROM:+0100
TZOFFSETTO:+0200
TZNAME:CEST
DTSTART:20240331T010000
END:DAYLIGHT
BEGIN:STANDARD
TZOFFSETFROM:+0200
TZOFFSETTO:+0100
TZNAME:CET
DTSTART:20241027T010000
END:STANDARD
BEGIN:DAYLIGHT
TZOFFSETFROM:+0100
TZOFFSETTO:+0200
TZNAME:CEST
DTSTART:20250330T010000
END:DAYLIGHT
BEGIN:STANDARD
TZOFFSETFROM:+0200
TZOFFSETTO:+0100
TZNAME:CET
DTSTART:20251026T010000
END:STANDARD
END:VTIMEZONE
BEGIN:VEVENT
DTSTART;TZID=Europe/Berlin:20241213T090000
DTEND;TZID=Europe/Berlin:20241213T130000
DTSTAMP:20260419T220954
CREATED:20241209T143852Z
LAST-MODIFIED:20241209T143852Z
UID:10000339-1734080400-1734094800@staging.fleck-dach.de
SUMMARY:Hausmesse DEG Neumünster
DESCRIPTION:Am 13. Dezember öffnet die DEG Alles für das Dach eG ihre Türen für eine Hausmesse. Diese Veranstaltung findet am Standort in Neumünster statt und bietet spannende Einblicke in aktuelle Themen. Gebietsverkaufsleiter Daniel Bläsing wird persönlich vor Ort sein und das FLECK-Zubehör präsentieren. \nFür das leibliche Wohl ist gesorgt. \n  \nPräsentiert von \n \nFür Sie von FLECK vor Ort \nDaniel Bläsing\, Gebietsverkaufsleiter im PLZ-Bereich 2
URL:https://staging.fleck-dach.de/termine/hausmesse-deg-neumuenster/
LOCATION:DEG Alles für das Dach eG Neumünster\, Wagrier Straße 9\, Neumünster\, Schleswig-Holstein\, 24539\, Deutschland
CATEGORIES:Verarbeiter
ATTACH;FMTTYPE=image/jpeg:https://staging.fleck-dach.de/wp-content/uploads/2024/02/fleck_produkte_ausgestellt.jpeg
ORGANIZER;CN="DEG Alles f%C3%BCr das Dach eG":MAILTO:impressum@deg-dach.de
END:VEVENT
END:VCALENDAR