BEGIN:VCALENDAR
VERSION:2.0
PRODID:-//Fleck | Dachzubehör! - ECPv6.15.20//NONSGML v1.0//EN
CALSCALE:GREGORIAN
METHOD:PUBLISH
X-ORIGINAL-URL:https://staging.fleck-dach.de
X-WR-CALDESC:Veranstaltungen für Fleck | Dachzubehör!
REFRESH-INTERVAL;VALUE=DURATION:PT1H
X-Robots-Tag:noindex
X-PUBLISHED-TTL:PT1H
BEGIN:VTIMEZONE
TZID:Europe/Berlin
BEGIN:DAYLIGHT
TZOFFSETFROM:+0100
TZOFFSETTO:+0200
TZNAME:CEST
DTSTART:20240331T010000
END:DAYLIGHT
BEGIN:STANDARD
TZOFFSETFROM:+0200
TZOFFSETTO:+0100
TZNAME:CET
DTSTART:20241027T010000
END:STANDARD
BEGIN:DAYLIGHT
TZOFFSETFROM:+0100
TZOFFSETTO:+0200
TZNAME:CEST
DTSTART:20250330T010000
END:DAYLIGHT
BEGIN:STANDARD
TZOFFSETFROM:+0200
TZOFFSETTO:+0100
TZNAME:CET
DTSTART:20251026T010000
END:STANDARD
BEGIN:DAYLIGHT
TZOFFSETFROM:+0100
TZOFFSETTO:+0200
TZNAME:CEST
DTSTART:20260329T010000
END:DAYLIGHT
BEGIN:STANDARD
TZOFFSETFROM:+0200
TZOFFSETTO:+0100
TZNAME:CET
DTSTART:20261025T010000
END:STANDARD
END:VTIMEZONE
BEGIN:VEVENT
DTSTART;TZID=Europe/Berlin:20250307T120000
DTEND;TZID=Europe/Berlin:20250307T150000
DTSTAMP:20260419T185543
CREATED:20250122T144523Z
LAST-MODIFIED:20250122T144523Z
UID:10000353-1741348800-1741359600@staging.fleck-dach.de
SUMMARY:Angrillen bei der DEX eG in Oldenburg
DESCRIPTION:Am 7. März findet am Standort der DEX eG in Oldenburg das alljährliche Angrillen statt. Seit über 100 Jahren bietet die Genossenschaft alles für ein modernes und professionelles Handwerk an. In einer angenehmen und gemütlichen Atmosphäre haben Mitglieder und Kunden die Gelegenheit mehr zu den Produkten zu erfahren. Gebietsverkaufsleiter Daniel Bläsing wird vor Ort unser Sortiment präsentieren. \n  \nPräsentiert von \n \n  \nFür Sie von FLECK vor Ort \nDaniel Bläsing\, Gebietsverkaufsleiter im PLZ-Bereich 2
URL:https://staging.fleck-dach.de/termine/angrillen-bei-der-dex-eg-in-oldenburg/
LOCATION:DEX eG – Oldenburg\, Ekernstraße 10\, Oldenburg\, Niedersachsen\, 26125\, Deutschland
CATEGORIES:Verarbeiter
ATTACH;FMTTYPE=image/jpeg:https://staging.fleck-dach.de/wp-content/uploads/2023/02/oldenburg-scaled-1920x1080-1.jpeg
ORGANIZER;CN="DEX eG":MAILTO:info@dex-eg.de
END:VEVENT
END:VCALENDAR