BEGIN:VCALENDAR
VERSION:2.0
PRODID:-//Fleck | Dachzubehör! - ECPv6.15.20//NONSGML v1.0//EN
CALSCALE:GREGORIAN
METHOD:PUBLISH
X-ORIGINAL-URL:https://staging.fleck-dach.de
X-WR-CALDESC:Veranstaltungen für Fleck | Dachzubehör!
REFRESH-INTERVAL;VALUE=DURATION:PT1H
X-Robots-Tag:noindex
X-PUBLISHED-TTL:PT1H
BEGIN:VTIMEZONE
TZID:Europe/Berlin
BEGIN:DAYLIGHT
TZOFFSETFROM:+0100
TZOFFSETTO:+0200
TZNAME:CEST
DTSTART:20230326T010000
END:DAYLIGHT
BEGIN:STANDARD
TZOFFSETFROM:+0200
TZOFFSETTO:+0100
TZNAME:CET
DTSTART:20231029T010000
END:STANDARD
BEGIN:DAYLIGHT
TZOFFSETFROM:+0100
TZOFFSETTO:+0200
TZNAME:CEST
DTSTART:20240331T010000
END:DAYLIGHT
BEGIN:STANDARD
TZOFFSETFROM:+0200
TZOFFSETTO:+0100
TZNAME:CET
DTSTART:20241027T010000
END:STANDARD
BEGIN:DAYLIGHT
TZOFFSETFROM:+0100
TZOFFSETTO:+0200
TZNAME:CEST
DTSTART:20250330T010000
END:DAYLIGHT
BEGIN:STANDARD
TZOFFSETFROM:+0200
TZOFFSETTO:+0100
TZNAME:CET
DTSTART:20251026T010000
END:STANDARD
END:VTIMEZONE
BEGIN:VEVENT
DTSTART;TZID=Europe/Berlin:20241206T150000
DTEND;TZID=Europe/Berlin:20241206T190000
DTSTAMP:20260419T233704
CREATED:20241113T125715Z
LAST-MODIFIED:20241113T125715Z
UID:10000321-1733497200-1733511600@staging.fleck-dach.de
SUMMARY:DEX – Weihnachtliches Wesel
DESCRIPTION:Die DEX eG (Fusion der DEG Dach-Fassade-Holz eG und DENW eG) lädt am 6. Dezember in ihre Niederlassung in Wesel ein. Gemeinsam mit ihren Geschäftspartnern und Kunden möchten sie einen gemütlichen Austausch schaffen. Gebietsverkaufsleiter Alexander Hoffmann wird FLECK vor Ort vertreten. \n  \nPräsentiert von  \n \n  \nFür Sie von FLECK vor Ort \nAlexander Hoffmann\, Gebietsverkaufsleiter in den PLZ-Bereichen 44-46\, 48\, 49\, 58\, 59
URL:https://staging.fleck-dach.de/termine/dex-weihnachtliches-wesel/
LOCATION:DEX eG – Wesel\, Am Schornacker 15\, Wesel\, Nordrhein-Westfalen\, 46485\, Deutschland
CATEGORIES:Verarbeiter
ATTACH;FMTTYPE=image/jpeg:https://staging.fleck-dach.de/wp-content/uploads/2024/11/dex-wesel.jpeg
ORGANIZER;CN="DEX eG":MAILTO:info@dex-eg.de
END:VEVENT
BEGIN:VEVENT
DTSTART;TZID=Europe/Berlin:20241205T150000
DTEND;TZID=Europe/Berlin:20241205T190000
DTSTAMP:20260419T233704
CREATED:20251103T080838Z
LAST-MODIFIED:20251103T080838Z
UID:10000440-1733410800-1733425200@staging.fleck-dach.de
SUMMARY:DEX – Weihnachtliches Wesel 2025
DESCRIPTION:Die DEX eG (Fusion der DEG Dach-Fassade-Holz eG und DENW eG) lädt am 5. Dezember in ihre Niederlassung in Wesel ein. Gemeinsam mit ihren Geschäftspartnern und Kunden möchten sie einen gemütlichen Austausch schaffen. Gebietsverkaufsleiter Alexander Hoffmann wird FLECK vor Ort vertreten. \n  \nPräsentiert von  \n \n  \nFür Sie von FLECK vor Ort \nAlexander Hoffmann\, Gebietsverkaufsleiter in den PLZ-Bereichen 44-46\, 48\, 49\, 58\, 59
URL:https://staging.fleck-dach.de/termine/dex-weihnachtliches-wesel-2025/
LOCATION:DEX eG – Wesel\, Am Schornacker 15\, Wesel\, Nordrhein-Westfalen\, 46485\, Deutschland
CATEGORIES:Verarbeiter
ATTACH;FMTTYPE=image/jpeg:https://staging.fleck-dach.de/wp-content/uploads/2024/11/dex-wesel.jpeg
ORGANIZER;CN="DEX eG":MAILTO:info@dex-eg.de
END:VEVENT
END:VCALENDAR