BEGIN:VCALENDAR
VERSION:2.0
PRODID:-//Fleck | Dachzubehör! - ECPv6.15.20//NONSGML v1.0//EN
CALSCALE:GREGORIAN
METHOD:PUBLISH
X-ORIGINAL-URL:https://staging.fleck-dach.de
X-WR-CALDESC:Veranstaltungen für Fleck | Dachzubehör!
REFRESH-INTERVAL;VALUE=DURATION:PT1H
X-Robots-Tag:noindex
X-PUBLISHED-TTL:PT1H
BEGIN:VTIMEZONE
TZID:Europe/Berlin
BEGIN:DAYLIGHT
TZOFFSETFROM:+0100
TZOFFSETTO:+0200
TZNAME:CEST
DTSTART:20240331T010000
END:DAYLIGHT
BEGIN:STANDARD
TZOFFSETFROM:+0200
TZOFFSETTO:+0100
TZNAME:CET
DTSTART:20241027T010000
END:STANDARD
BEGIN:DAYLIGHT
TZOFFSETFROM:+0100
TZOFFSETTO:+0200
TZNAME:CEST
DTSTART:20250330T010000
END:DAYLIGHT
BEGIN:STANDARD
TZOFFSETFROM:+0200
TZOFFSETTO:+0100
TZNAME:CET
DTSTART:20251026T010000
END:STANDARD
BEGIN:DAYLIGHT
TZOFFSETFROM:+0100
TZOFFSETTO:+0200
TZNAME:CEST
DTSTART:20260329T010000
END:DAYLIGHT
BEGIN:STANDARD
TZOFFSETFROM:+0200
TZOFFSETTO:+0100
TZNAME:CET
DTSTART:20261025T010000
END:STANDARD
END:VTIMEZONE
BEGIN:VEVENT
DTSTART;TZID=Europe/Berlin:20250930T190000
DTEND;TZID=Europe/Berlin:20251001T140000
DTSTAMP:20260420T024713
CREATED:20250506T115146Z
LAST-MODIFIED:20250506T115146Z
UID:10000386-1759258800-1759327200@staging.fleck-dach.de
SUMMARY:26. Dach-Konvent
DESCRIPTION:Am 30. September und 1. OKtober findet der 26. Dach-Konvent statt. Veranstaltungsort soll in diesem Jahr der Brauturm des Dortmunder U sein. Der Dach-Konvent lädt jährlich die Führungspersönlichkeiten der Dachbau-Branche zum spannenden und intensiven Austausch unter Kollegen ein. Auch unser Geschäftsführer Christoph Nielacny wird sich an der Veranstaltung beteiligen. \nWeitere Informationen und die Anmeldung finden Sie hier. \n  \nPräsentiert vom \n \nFür Sie von FLECK vor Ort \nChristoph Nielacny\, Geschäftsführer der Fleck GmbH
URL:https://staging.fleck-dach.de/termine/26-dach-konvent/
LOCATION:Dortmunder U\, Leonie-Reygers-Terrasse\, Dortmund\, Nordrhein-Westfalen\, 44173\, Deutschland
CATEGORIES:Verarbeiter
ATTACH;FMTTYPE=image/jpeg:https://staging.fleck-dach.de/wp-content/uploads/2025/05/dortmunder-u-4662846_1280.jpg
ORGANIZER;CN="Zentralverband des Deutschen Dachdeckerhandwerks e. V.":MAILTO:zvdh@dachdecker.de
END:VEVENT
END:VCALENDAR