BEGIN:VCALENDAR
VERSION:2.0
PRODID:-//Fleck | Dachzubehör! - ECPv6.15.20//NONSGML v1.0//EN
CALSCALE:GREGORIAN
METHOD:PUBLISH
X-WR-CALNAME:Fleck | Dachzubehör!
X-ORIGINAL-URL:https://staging.fleck-dach.de
X-WR-CALDESC:Veranstaltungen für Fleck | Dachzubehör!
REFRESH-INTERVAL;VALUE=DURATION:PT1H
X-Robots-Tag:noindex
X-PUBLISHED-TTL:PT1H
BEGIN:VTIMEZONE
TZID:Europe/Berlin
BEGIN:DAYLIGHT
TZOFFSETFROM:+0100
TZOFFSETTO:+0200
TZNAME:CEST
DTSTART:20230326T010000
END:DAYLIGHT
BEGIN:STANDARD
TZOFFSETFROM:+0200
TZOFFSETTO:+0100
TZNAME:CET
DTSTART:20231029T010000
END:STANDARD
BEGIN:DAYLIGHT
TZOFFSETFROM:+0100
TZOFFSETTO:+0200
TZNAME:CEST
DTSTART:20240331T010000
END:DAYLIGHT
BEGIN:STANDARD
TZOFFSETFROM:+0200
TZOFFSETTO:+0100
TZNAME:CET
DTSTART:20241027T010000
END:STANDARD
BEGIN:DAYLIGHT
TZOFFSETFROM:+0100
TZOFFSETTO:+0200
TZNAME:CEST
DTSTART:20250330T010000
END:DAYLIGHT
BEGIN:STANDARD
TZOFFSETFROM:+0200
TZOFFSETTO:+0100
TZNAME:CET
DTSTART:20251026T010000
END:STANDARD
BEGIN:DAYLIGHT
TZOFFSETFROM:+0100
TZOFFSETTO:+0200
TZNAME:CEST
DTSTART:20260329T010000
END:DAYLIGHT
BEGIN:STANDARD
TZOFFSETFROM:+0200
TZOFFSETTO:+0100
TZNAME:CET
DTSTART:20261025T010000
END:STANDARD
END:VTIMEZONE
BEGIN:VEVENT
DTSTART;VALUE=DATE:20250424
DTEND;VALUE=DATE:20250426
DTSTAMP:20260420T012253
CREATED:20240304T142515Z
LAST-MODIFIED:20250321T061937Z
UID:10000248-1745452800-1745625599@staging.fleck-dach.de
SUMMARY:Haustechnik Aktuell 2025
DESCRIPTION:Kurze Wege\, komplettes Programm: Im Jahr 2025 veranstaltet die GC-GRUPPE wieder ihre traditionellen Neuheitenschauen\, bei denen sich Besucher informieren\, austauschen und auf den aktuellen Stand in Sachen Haustechnik bringen können – beim Branchentreff vor der Haustür des Fachhandwerks. Am 24. und 25. April öffnet der Standort in Stuhr seine Türen. Unser Gebietsverkaufsleiter Daniel Bläsing wird an einem Stand das FLECK-Dachzubehör vorstellen. \n  \nPräsentiert von \n \n  \nFür Sie von FLECK vor Ort \nDaniel Bläsing\, Gebietsverkaufsleiter im PLZ-Bereich 2
URL:https://staging.fleck-dach.de/termine/haustechnik-aktuell-2025/
LOCATION:DTG Cordes & Graefe KG Stuhr\, Wulfhooper Str. 1-5\, Stuhr\, Niedersachsen\, 28816\, Deutschland
CATEGORIES:Verarbeiter
ATTACH;FMTTYPE=image/jpeg:https://staging.fleck-dach.de/wp-content/uploads/2022/11/fleck_dtg_stuhr.jpeg
ORGANIZER;CN="GC Gro%C3%9Fhandels Contor GmbH":MAILTO:info@gc-gruppe.de
END:VEVENT
BEGIN:VEVENT
DTSTART;TZID=Europe/Berlin:20240425T083000
DTEND;TZID=Europe/Berlin:20240425T143000
DTSTAMP:20260420T012253
CREATED:20240326T110757Z
LAST-MODIFIED:20240326T110757Z
UID:10000256-1714033800-1714055400@staging.fleck-dach.de
SUMMARY:Fachsymposium: Änderungen im ZVDH Regelwerk und weitere Neuerungen
DESCRIPTION:Am 24. April lädt die DTG Cordes & Graefe KG zum Fachsymposium über Änderungen im ZVDH Regelwerk und weitere Neuerungen ein. Für FLECK wird unser Gebietsverkaufsleiter Daniel Bläsing einen Vortrag halten. Neben FLECK sind Referenten aus den Unternehmen pro clima und Velux mit dabei. \n  \nPräsentiert von \n \n  \nFür Sie von FLECK vor Ort \nDaniel Bläsing\, Gebietsverkaufsleiter im PLZ-Bereich 2
URL:https://staging.fleck-dach.de/termine/fachsymposium-aenderungen-im-zvdh-regelwerk-und-weitere-neuerungen/
LOCATION:DTG Cordes & Graefe KG Stuhr\, Wulfhooper Str. 1-5\, Stuhr\, Niedersachsen\, 28816\, Deutschland
CATEGORIES:Verarbeiter
ATTACH;FMTTYPE=image/jpeg:https://staging.fleck-dach.de/wp-content/uploads/2024/03/dtg_stuhr.jpeg
END:VEVENT
END:VCALENDAR