BEGIN:VCALENDAR
VERSION:2.0
PRODID:-//Fleck | Dachzubehör! - ECPv6.15.20//NONSGML v1.0//EN
CALSCALE:GREGORIAN
METHOD:PUBLISH
X-ORIGINAL-URL:https://staging.fleck-dach.de
X-WR-CALDESC:Veranstaltungen für Fleck | Dachzubehör!
REFRESH-INTERVAL;VALUE=DURATION:PT1H
X-Robots-Tag:noindex
X-PUBLISHED-TTL:PT1H
BEGIN:VTIMEZONE
TZID:Europe/Berlin
BEGIN:DAYLIGHT
TZOFFSETFROM:+0100
TZOFFSETTO:+0200
TZNAME:CEST
DTSTART:20220327T010000
END:DAYLIGHT
BEGIN:STANDARD
TZOFFSETFROM:+0200
TZOFFSETTO:+0100
TZNAME:CET
DTSTART:20221030T010000
END:STANDARD
BEGIN:DAYLIGHT
TZOFFSETFROM:+0100
TZOFFSETTO:+0200
TZNAME:CEST
DTSTART:20230326T010000
END:DAYLIGHT
BEGIN:STANDARD
TZOFFSETFROM:+0200
TZOFFSETTO:+0100
TZNAME:CET
DTSTART:20231029T010000
END:STANDARD
BEGIN:DAYLIGHT
TZOFFSETFROM:+0100
TZOFFSETTO:+0200
TZNAME:CEST
DTSTART:20240331T010000
END:DAYLIGHT
BEGIN:STANDARD
TZOFFSETFROM:+0200
TZOFFSETTO:+0100
TZNAME:CET
DTSTART:20241027T010000
END:STANDARD
END:VTIMEZONE
BEGIN:VEVENT
DTSTART;TZID=Europe/Berlin:20230302T104500
DTEND;TZID=Europe/Berlin:20230302T171500
DTSTAMP:20260419T204726
CREATED:20230201T073600Z
LAST-MODIFIED:20230223T083021Z
UID:10000063-1677753900-1677777300@staging.fleck-dach.de
SUMMARY:Neue Freude am Steildach - 1. Termin
DESCRIPTION:Das Steildach ist nach wie vor beliebt in Deutschland und befindet sich seit einigen Jahren im Wandel. In diesem Seminar lernen Sie u. a. mehr über die Bauphysik und Möglichkeiten der Modernisierung. \nSeminarinhalte: \n\nSteildächer im Wandel: Diplom-Physiker Peter Nowack\, Senior Produktmanager\, Fleck GmbH\n\nDie Vielfalt von FLECK nutzen\nDurchdringungen meistern\nWas fordern die Fachregeln\nEnergetische Optimierunsmöglichkeiten\nSonderlösungen für das Dach\nServices von FLECK\n\n\nBauphysik des Steildachs verstehen: Frank Engelmann\, Schulungsleiter\, Dachziegelwerke Nelskamp GmbH\n\nPfanne ist nicht gleich Pfanne\nAnforderungen und Normen\nWas wirklich zählt\nInnovationen und Trends\nDachlandschaften\nServices von Nelskamp\n\n\nPlanung von Dachfenstern nach der neuen DIN EN 17037: Günter Roß\, Architektenberater NRW\, VELUX Deutschland GmbH\n\nTageslichtplanung im Steildach\nAnforderungen aus der Normung\nErfahrungen und Studien zu Licht\nSysteme für das Steildach\nServices von VELUX\nInnovationen\n\n\nModernisieren mit Innovationen: Michael Görg\, Technischer Fachberater; Diplom-Betriebswirt Marc Schulte\, Verkaufsleiter Deutschland\, Ampack AG\n\nKein Steildach ohne Planung\nDer Bauphysik gewachsen\nLuftdicht/Dampfdicht/Dauerhaft\nSonderlösungen\nInnovationen\n\n\nSteinwolle – der Alleskönner: Micha Wißler\, Area Manager\, DEUTSCHE ROCKWOOL\n\nEigenschaften verstehen und nutzen\nDämmsysteme für das Steildach\nFeuchteschäden vermeiden – worauf es ankommt\nServices von ROCKWOOL\n\n\nVersteckte Gefahren – kleine Fehler mit großen Auswirkungen: Diplom-Kaufmann Heiko Kentzler\, Geschäftsführer\, Sachverständigenbüro KENTZLER\n\nLuftdichtigkeit-Feuchte-Schimmel\nSelbstkompostierende Dächer\nSchäden und deren Vermeidung\nSchadensfälle aus der Praxis\n\n\n\n  \nAblauf: \n\n10:45–11:00 Eintreffen/Begrüßungskaffee\n11:00–12:00 Werksführung (nur mit vorheriger Anmeldung!)\n12:00–12:45 Mittagsimbiss\n12:45–13:00 Begrüßung\n13:00–13:35 1. Vortrag\n13:35–14:10 2. Vortrag\n14:10–14:45 3. Vortrag\n14:45–15:15 Kaffeepause\n15:15–15:50 4. Vortrag\n15:50–16:25 5. Vortrag\n16:25–17:00 6. Vortrag\n17:00–17:15 Zeit für Fragen\n17:15 Ende der Veranstaltung\n\n  \nPräsentiert von \n \n  \nFür Sie von FLECK vor Ort \nPeter Nowack\, Produktmanager und Spezialist für Dachzubehör \nErik Disselbeck\, Gebietsverkaufsleiter im Gebiet Süd-West\, PLZ-Bereiche 50\, 52-56\, 60–69 \n  \nANMELDUNG\nBitte aktiviere JavaScript in deinem Browser\, um dieses Formular fertigzustellen.Anrede *FrauHerrNeutrale AnredeKeine AnredeName *VornameNachnameFirma (optional)Anschrift *Adresse Zeile 1Anschrift ZusatzStadtRegionPostleitzahlE-Mail *Telefon *Angaben zum Beruf *Ich bin DachhandwerkerIch bin Planer/ArchitektIch bin HändlerSonstigesBenötigen Sie eine Bescheinigung zur Teilnahme an diesem Seminar für die dena / AKNRW? *Ja\, ich benötige eine Bescheinigung für die denaJa\, ich benötige eine Bescheinigung für die AKNRWNein\, ich benötige keine BescheinigungMöchten Sie an der Werksführung teilnehmen? *JaNeinDie Werksführung ist nur mit vorheriger Anmeldung möglich.Wie haben Sie von dem Event erfahren? *Ich bin über die Medien auf das Event aufmerksam geworden.Ich habe ein postalisches Mailing erhalten.Ich habe ein digitales Mailing erhalten.Weiterempfehlung von Kolleg:innen und/oder BekanntenAnderer GrundDatenschutzerklärung *Ich habe die Datenschutzerklärung zur Kenntnis genommen.Anmelden
URL:https://staging.fleck-dach.de/termine/neue-freude-am-steildach-maerz/
LOCATION:FLECKtory – Oskar Fleck Informationszentrum\, Winkelfeld 6\, Oer-Erkenschwick\, Nordrhein-Westfalen\, 45739\, Deutschland
CATEGORIES:Handel,Planer/Architekten,Verarbeiter
ATTACH;FMTTYPE=image/png:https://staging.fleck-dach.de/wp-content/uploads/2023/01/fle_veranstaltung_steildach.png
ORGANIZER;CN="FLECK Akademie":MAILTO:akademie@fleck-dach.de
END:VEVENT
END:VCALENDAR