BEGIN:VCALENDAR
VERSION:2.0
PRODID:-//Fleck | Dachzubehör! - ECPv6.15.20//NONSGML v1.0//EN
CALSCALE:GREGORIAN
METHOD:PUBLISH
X-WR-CALNAME:Fleck | Dachzubehör!
X-ORIGINAL-URL:https://staging.fleck-dach.de
X-WR-CALDESC:Veranstaltungen für Fleck | Dachzubehör!
REFRESH-INTERVAL;VALUE=DURATION:PT1H
X-Robots-Tag:noindex
X-PUBLISHED-TTL:PT1H
BEGIN:VTIMEZONE
TZID:Europe/Berlin
BEGIN:DAYLIGHT
TZOFFSETFROM:+0100
TZOFFSETTO:+0200
TZNAME:CEST
DTSTART:20230326T010000
END:DAYLIGHT
BEGIN:STANDARD
TZOFFSETFROM:+0200
TZOFFSETTO:+0100
TZNAME:CET
DTSTART:20231029T010000
END:STANDARD
BEGIN:DAYLIGHT
TZOFFSETFROM:+0100
TZOFFSETTO:+0200
TZNAME:CEST
DTSTART:20240331T010000
END:DAYLIGHT
BEGIN:STANDARD
TZOFFSETFROM:+0200
TZOFFSETTO:+0100
TZNAME:CET
DTSTART:20241027T010000
END:STANDARD
BEGIN:DAYLIGHT
TZOFFSETFROM:+0100
TZOFFSETTO:+0200
TZNAME:CEST
DTSTART:20250330T010000
END:DAYLIGHT
BEGIN:STANDARD
TZOFFSETFROM:+0200
TZOFFSETTO:+0100
TZNAME:CET
DTSTART:20251026T010000
END:STANDARD
BEGIN:DAYLIGHT
TZOFFSETFROM:+0100
TZOFFSETTO:+0200
TZNAME:CEST
DTSTART:20260329T010000
END:DAYLIGHT
BEGIN:STANDARD
TZOFFSETFROM:+0200
TZOFFSETTO:+0100
TZNAME:CET
DTSTART:20261025T010000
END:STANDARD
END:VTIMEZONE
BEGIN:VEVENT
DTSTART;TZID=Europe/Berlin:20251205T120000
DTEND;TZID=Europe/Berlin:20251205T160000
DTSTAMP:20260420T015311
CREATED:20251031T141200Z
LAST-MODIFIED:20251031T141200Z
UID:10000426-1764936000-1764950400@staging.fleck-dach.de
SUMMARY:Flosbach Nikolaus- und Expertentag
DESCRIPTION:Auch in diesem Jahr findet der traditionelle Nikolaus-Expertentag von der Werner Flosbach GmbH in Remscheid statt. Unser Gebietsverkaufsleiter Stefan Bittner freut sich\, Sie dieses Jahr an unserem eigenen Stand begrüßen\, vor Ort zu dürfen. \n  \nPräsentiert von \n \n  \nFür Sie von FLECK vor Ort \nStefan Bittner\, Gebietsverkaufsleiter in den PLZ-Bereichen 40-42\, 47\, 51\, 57
URL:https://staging.fleck-dach.de/termine/flosbach-nikolaus-und-expertentag/
LOCATION:Flosbach Niederlassung Zimmermann Remscheid\, Falkenberger Straße 32\, Remscheid\, Nordrhein-Westfalen\, 42859\, Deutschland
CATEGORIES:Handel,Planer/Architekten,Verarbeiter
ATTACH;FMTTYPE=image/png:https://staging.fleck-dach.de/wp-content/uploads/2025/05/flosbach-standort-marienheide.png
ORGANIZER;CN="Werner Flosbach GmbH":MAILTO:info@flosbach.de
END:VEVENT
BEGIN:VEVENT
DTSTART;TZID=Europe/Berlin:20241206T120000
DTEND;TZID=Europe/Berlin:20241206T160000
DTSTAMP:20260420T015311
CREATED:20241115T081114Z
LAST-MODIFIED:20241126T133436Z
UID:10000314-1733486400-1733500800@staging.fleck-dach.de
SUMMARY:Flosbach Nikolaus- und Expertentag 2024
DESCRIPTION:Am 6. Dezember findet am Standort der Werner Flosbach GmbH in Remscheid der Nikolaus- und Expertentag statt. Vor Ort wird live und praxisnah eine umfangreiche Produktpalette präsentiert. Stefan Bittner wird vor Ort unser Sortiment präsentieren. \n  \nPräsentiert von \n \n  \nFür Sie von FLECK vor Ort \nStefan Bittner\, Gebietsverkaufsleiter in den PLZ-Bereichen 40-42\, 47\, 51\, 57
URL:https://staging.fleck-dach.de/termine/flosbach-nikolaus-und-expertentag-2024/
LOCATION:Flosbach Niederlassung Zimmermann Remscheid\, Falkenberger Straße 32\, Remscheid\, Nordrhein-Westfalen\, 42859\, Deutschland
CATEGORIES:Verarbeiter
ATTACH;FMTTYPE=image/jpeg:https://staging.fleck-dach.de/wp-content/uploads/2024/11/nikolaus-bild-scaled.jpeg
ORGANIZER;CN="Werner Flosbach GmbH":MAILTO:info@flosbach.de
END:VEVENT
END:VCALENDAR