BEGIN:VCALENDAR
VERSION:2.0
PRODID:-//Fleck | Dachzubehör! - ECPv6.15.20//NONSGML v1.0//EN
CALSCALE:GREGORIAN
METHOD:PUBLISH
X-ORIGINAL-URL:https://staging.fleck-dach.de
X-WR-CALDESC:Veranstaltungen für Fleck | Dachzubehör!
REFRESH-INTERVAL;VALUE=DURATION:PT1H
X-Robots-Tag:noindex
X-PUBLISHED-TTL:PT1H
BEGIN:VTIMEZONE
TZID:Europe/Berlin
BEGIN:DAYLIGHT
TZOFFSETFROM:+0100
TZOFFSETTO:+0200
TZNAME:CEST
DTSTART:20220327T010000
END:DAYLIGHT
BEGIN:STANDARD
TZOFFSETFROM:+0200
TZOFFSETTO:+0100
TZNAME:CET
DTSTART:20221030T010000
END:STANDARD
BEGIN:DAYLIGHT
TZOFFSETFROM:+0100
TZOFFSETTO:+0200
TZNAME:CEST
DTSTART:20230326T010000
END:DAYLIGHT
BEGIN:STANDARD
TZOFFSETFROM:+0200
TZOFFSETTO:+0100
TZNAME:CET
DTSTART:20231029T010000
END:STANDARD
BEGIN:DAYLIGHT
TZOFFSETFROM:+0100
TZOFFSETTO:+0200
TZNAME:CEST
DTSTART:20240331T010000
END:DAYLIGHT
BEGIN:STANDARD
TZOFFSETFROM:+0200
TZOFFSETTO:+0100
TZNAME:CET
DTSTART:20241027T010000
END:STANDARD
BEGIN:DAYLIGHT
TZOFFSETFROM:+0100
TZOFFSETTO:+0200
TZNAME:CEST
DTSTART:20250330T010000
END:DAYLIGHT
BEGIN:STANDARD
TZOFFSETFROM:+0200
TZOFFSETTO:+0100
TZNAME:CET
DTSTART:20251026T010000
END:STANDARD
END:VTIMEZONE
BEGIN:VEVENT
DTSTART;VALUE=DATE:20240201
DTEND;VALUE=DATE:20240202
DTSTAMP:20260419T173446
CREATED:20231109T142452Z
LAST-MODIFIED:20231109T142452Z
UID:10000178-1706745600-1706831999@staging.fleck-dach.de
SUMMARY:Photoltaik-Schulung von Janssen in Brühl
DESCRIPTION:Am 1. Februar wird am Standort von Janssen in Brühl eine Schulung zum Thema Photovoltaik abgehalten. Teilnehmer sind nicht nur FLECK\, sondern auch andere namhafte Unternehmen aus der Dachbranche wie Nelskamp\, RHEINZINK\, haushaut und Rathscheck. Die Teilnehmer erhalten vor Ort umfassende Informationen zum Thema Photovoltaik in der Theorie und der Praxis. \nWeitere Informationen zu der Veranstaltung sowie der Anmeldung folgen noch. \n  \nPräsentiert von \n \n  \nFür Sie von FLECK vor Ort \nErik Disselbeck\, Gebietsverkaufsleiter in den PLZ-Bereichen 50\, 52-56\, 60–69
URL:https://staging.fleck-dach.de/termine/photoltaik-schulung-von-janssen-in-bruehl/
LOCATION:H. Janssen & Co. KG Brühl\, Bergerstr. 101–103\, Brühl\, Nordrhein-Westfalen\, 50321
CATEGORIES:Handel,Planer/Architekten,Verarbeiter
ATTACH;FMTTYPE=image/jpeg:https://staging.fleck-dach.de/wp-content/uploads/2023/01/janssen-standort-bruehl-2000x1100-1.jpeg
ORGANIZER;CN="H. Janssen & Co. KG":MAILTO:info@janssen-dach.de
END:VEVENT
BEGIN:VEVENT
DTSTART;TZID=Europe/Berlin:20230405T090000
DTEND;TZID=Europe/Berlin:20230405T140000
DTSTAMP:20260419T173446
CREATED:20230113T101548Z
LAST-MODIFIED:20230126T124302Z
UID:10000049-1680685200-1680703200@staging.fleck-dach.de
SUMMARY:Boxenstopp Janssen Brühl
DESCRIPTION:Boxenstopp bei Janssen! Am 05.04.2023 findet dieser in Brühl statt\, genießen Sie ein Dachdeckerfrühstück unter Kolleg:innen und tauschen sich über aktuelle Themen aus. Unser Außendienstmitarbeiter Erik Disselbeck wird allen Teilnehmer:innen an einem Stand unser Dachzubehör präsentieren. \nWeitere Informationen zu der Veranstaltung folgen. \n  \nPräsentiert von \n \n  \nFür Sie von FLECK vor Ort \nErik Disselbeck\, Gebietsverkaufsleiter im Gebiet Süd-West\, PLZ-Bereiche 50\, 52-56\, 60–69
URL:https://staging.fleck-dach.de/termine/boxenstopp-janssen-bruehl/
LOCATION:H. Janssen & Co. KG Brühl\, Bergerstr. 101–103\, Brühl\, Nordrhein-Westfalen\, 50321
CATEGORIES:Verarbeiter
ATTACH;FMTTYPE=image/jpeg:https://staging.fleck-dach.de/wp-content/uploads/2023/01/janssen-standort-bruehl-2000x1100-1.jpeg
ORGANIZER;CN="H. Janssen & Co. KG":MAILTO:info@janssen-dach.de
END:VEVENT
END:VCALENDAR