BEGIN:VCALENDAR
VERSION:2.0
PRODID:-//Fleck | Dachzubehör! - ECPv6.15.20//NONSGML v1.0//EN
CALSCALE:GREGORIAN
METHOD:PUBLISH
X-ORIGINAL-URL:https://staging.fleck-dach.de
X-WR-CALDESC:Veranstaltungen für Fleck | Dachzubehör!
REFRESH-INTERVAL;VALUE=DURATION:PT1H
X-Robots-Tag:noindex
X-PUBLISHED-TTL:PT1H
BEGIN:VTIMEZONE
TZID:Europe/Berlin
BEGIN:DAYLIGHT
TZOFFSETFROM:+0100
TZOFFSETTO:+0200
TZNAME:CEST
DTSTART:20220327T010000
END:DAYLIGHT
BEGIN:STANDARD
TZOFFSETFROM:+0200
TZOFFSETTO:+0100
TZNAME:CET
DTSTART:20221030T010000
END:STANDARD
BEGIN:DAYLIGHT
TZOFFSETFROM:+0100
TZOFFSETTO:+0200
TZNAME:CEST
DTSTART:20230326T010000
END:DAYLIGHT
BEGIN:STANDARD
TZOFFSETFROM:+0200
TZOFFSETTO:+0100
TZNAME:CET
DTSTART:20231029T010000
END:STANDARD
BEGIN:DAYLIGHT
TZOFFSETFROM:+0100
TZOFFSETTO:+0200
TZNAME:CEST
DTSTART:20240331T010000
END:DAYLIGHT
BEGIN:STANDARD
TZOFFSETFROM:+0200
TZOFFSETTO:+0100
TZNAME:CET
DTSTART:20241027T010000
END:STANDARD
END:VTIMEZONE
BEGIN:VEVENT
DTSTART;TZID=Europe/Berlin:20230331T090000
DTEND;TZID=Europe/Berlin:20230331T140000
DTSTAMP:20260419T205340
CREATED:20230126T125038Z
LAST-MODIFIED:20230126T125038Z
UID:10000062-1680253200-1680271200@staging.fleck-dach.de
SUMMARY:Boxenstopp Janssen Dortmund
DESCRIPTION:Ein Frühstück unter Kolleg:innen der Branche! Am 30. März findet dieses in Mönchengladbach statt\, genießen Sie leckeres Essen unter Kolleg:innen und tauschen Sie sich über aktuelle Themen aus. Unser Außendienstmitarbeiter Alexander Hoffmann wird allen Teilnehmer:innen an einem Stand unser Dachzubehör präsentieren. \nWeitere Informationen zu der Veranstaltung folgen. \n  \nPräsentiert von \n \n  \nFür Sie von FLECK vor Ort \nAlexander Hoffmann\, Gebietsverkaufsleiter im Gebiet West II\, PLZ-Bereiche 44-46\, 48\, 49\, 58\, 59
URL:https://staging.fleck-dach.de/termine/dachdeckerfruehstueck-janssen-dortmund/
LOCATION:H. Janssen & Co. KG Dortmund\, Franziusstr. 103–105\, Dortmund\, Nordrhein-Westfalen\, 44147
CATEGORIES:Verarbeiter
ATTACH;FMTTYPE=image/jpeg:https://staging.fleck-dach.de/wp-content/uploads/2023/01/standort-dortmund-2000x1100-1.jpeg
ORGANIZER;CN="H. Janssen & Co. KG":MAILTO:info@janssen-dach.de
END:VEVENT
END:VCALENDAR