BEGIN:VCALENDAR
VERSION:2.0
PRODID:-//Fleck | Dachzubehör! - ECPv6.15.20//NONSGML v1.0//EN
CALSCALE:GREGORIAN
METHOD:PUBLISH
X-WR-CALNAME:Fleck | Dachzubehör!
X-ORIGINAL-URL:https://staging.fleck-dach.de
X-WR-CALDESC:Veranstaltungen für Fleck | Dachzubehör!
REFRESH-INTERVAL;VALUE=DURATION:PT1H
X-Robots-Tag:noindex
X-PUBLISHED-TTL:PT1H
BEGIN:VTIMEZONE
TZID:Europe/Berlin
BEGIN:DAYLIGHT
TZOFFSETFROM:+0100
TZOFFSETTO:+0200
TZNAME:CEST
DTSTART:20220327T010000
END:DAYLIGHT
BEGIN:STANDARD
TZOFFSETFROM:+0200
TZOFFSETTO:+0100
TZNAME:CET
DTSTART:20221030T010000
END:STANDARD
BEGIN:DAYLIGHT
TZOFFSETFROM:+0100
TZOFFSETTO:+0200
TZNAME:CEST
DTSTART:20230326T010000
END:DAYLIGHT
BEGIN:STANDARD
TZOFFSETFROM:+0200
TZOFFSETTO:+0100
TZNAME:CET
DTSTART:20231029T010000
END:STANDARD
BEGIN:DAYLIGHT
TZOFFSETFROM:+0100
TZOFFSETTO:+0200
TZNAME:CEST
DTSTART:20240331T010000
END:DAYLIGHT
BEGIN:STANDARD
TZOFFSETFROM:+0200
TZOFFSETTO:+0100
TZNAME:CET
DTSTART:20241027T010000
END:STANDARD
END:VTIMEZONE
BEGIN:VEVENT
DTSTART;TZID=Europe/Berlin:20230621T093000
DTEND;TZID=Europe/Berlin:20230621T160000
DTSTAMP:20260419T171323
CREATED:20230612T061206Z
LAST-MODIFIED:20230612T061206Z
UID:10000130-1687339800-1687363200@staging.fleck-dach.de
SUMMARY:Heitkamm Solar-Infotag 2023
DESCRIPTION:Am 21. Juni findet am Gütersloher Standort von Heitkamm ein Infotag rund um das Thema Solar statt. Ausgewählte Industriepartner und Expert:innen der Branche geben ausgiebige Einblicke zu dem Thema. Gebietsverkaufsleiter Danny Neuhaus stellt vor Ort das Solar-Zubehör von FLECK vor. \nFür Essen und Trinken während der Veranstaltung ist gesorgt. \n  \nPräsentiert von \n \n  \nFür Sie von FLECK vor Ort \nDanny Neuhaus\, Gebietsverkaufsleiter im PLZ-Bereich 3
URL:https://staging.fleck-dach.de/termine/heitkamm-solar-infotag-2023/
LOCATION:Heitkamm GmbH Gütersloh\, Edisonstraße 18\, Gütersloh\, Nordrhein-Westfalen\, 33334
CATEGORIES:Verarbeiter
ORGANIZER;CN="Heitkamm GmbH":MAILTO:info@heitkamm.de
END:VEVENT
END:VCALENDAR