BEGIN:VCALENDAR
VERSION:2.0
PRODID:-//Fleck | Dachzubehör! - ECPv6.15.20//NONSGML v1.0//EN
CALSCALE:GREGORIAN
METHOD:PUBLISH
X-ORIGINAL-URL:https://staging.fleck-dach.de
X-WR-CALDESC:Veranstaltungen für Fleck | Dachzubehör!
REFRESH-INTERVAL;VALUE=DURATION:PT1H
X-Robots-Tag:noindex
X-PUBLISHED-TTL:PT1H
BEGIN:VTIMEZONE
TZID:Europe/Berlin
BEGIN:DAYLIGHT
TZOFFSETFROM:+0100
TZOFFSETTO:+0200
TZNAME:CEST
DTSTART:20240331T010000
END:DAYLIGHT
BEGIN:STANDARD
TZOFFSETFROM:+0200
TZOFFSETTO:+0100
TZNAME:CET
DTSTART:20241027T010000
END:STANDARD
BEGIN:DAYLIGHT
TZOFFSETFROM:+0100
TZOFFSETTO:+0200
TZNAME:CEST
DTSTART:20250330T010000
END:DAYLIGHT
BEGIN:STANDARD
TZOFFSETFROM:+0200
TZOFFSETTO:+0100
TZNAME:CET
DTSTART:20251026T010000
END:STANDARD
BEGIN:DAYLIGHT
TZOFFSETFROM:+0100
TZOFFSETTO:+0200
TZNAME:CEST
DTSTART:20260329T010000
END:DAYLIGHT
BEGIN:STANDARD
TZOFFSETFROM:+0200
TZOFFSETTO:+0100
TZNAME:CET
DTSTART:20261025T010000
END:STANDARD
END:VTIMEZONE
BEGIN:VEVENT
DTSTART;TZID=Europe/Berlin:20250704T140000
DTEND;TZID=Europe/Berlin:20250706T130000
DTSTAMP:20260421T153124
CREATED:20240816T120752Z
LAST-MODIFIED:20250602T071157Z
UID:10000296-1751637600-1751806800@staging.fleck-dach.de
SUMMARY:117. Landesverbandstag Bayern
DESCRIPTION:Es ist wieder so weit: Die Dachdeckertage des Bayerischen Dachdeckerhandwerks finden in Neumarkt statt. Seitens FLECK werden unsere Gebietsverkaufsleiter Robert Middeweg\, Christian Schwarz und Robert Stocker vor Ort teilnehmen. \n  \nPräsentiert vom \n \n  \nFür Sie von FLECK vor Ort \nRobert Middeweg\, Gebietsverkaufsleiter in den PLZ-Bereichen 36\, 63\, 90–92\, 97 \nChristian Schwarz\, Gebietsverkaufsleiter in den PLZ-Bereichen 01\, 02\, 04–09\, 95–96\, 98–99 \nRobert Stocker\, Gebietsverkaufsleiter in den PLZ-Bereichen 80–89\, 93–94
URL:https://staging.fleck-dach.de/termine/117-landesverbandstag-bayern/
LOCATION:Hotel Park Inn by Radison – Neumarkt\, Nürnberger Str. 4\, Neumarkt\, Bayern\, 92318\, Deutschland
CATEGORIES:Verarbeiter
ATTACH;FMTTYPE=image/jpeg:https://staging.fleck-dach.de/wp-content/uploads/2024/08/bayern_germany-7534750_1280-e1748848241623.jpg
ORGANIZER;CN="Landesinnungsverband des Dachdeckerhandwerks Bayern":MAILTO:info@dachdecker.bayern
END:VEVENT
END:VCALENDAR