BEGIN:VCALENDAR
VERSION:2.0
PRODID:-//Fleck | Dachzubehör! - ECPv6.15.20//NONSGML v1.0//EN
CALSCALE:GREGORIAN
METHOD:PUBLISH
X-WR-CALNAME:Fleck | Dachzubehör!
X-ORIGINAL-URL:https://staging.fleck-dach.de
X-WR-CALDESC:Veranstaltungen für Fleck | Dachzubehör!
REFRESH-INTERVAL;VALUE=DURATION:PT1H
X-Robots-Tag:noindex
X-PUBLISHED-TTL:PT1H
BEGIN:VTIMEZONE
TZID:Europe/Berlin
BEGIN:DAYLIGHT
TZOFFSETFROM:+0100
TZOFFSETTO:+0200
TZNAME:CEST
DTSTART:20220327T010000
END:DAYLIGHT
BEGIN:STANDARD
TZOFFSETFROM:+0200
TZOFFSETTO:+0100
TZNAME:CET
DTSTART:20221030T010000
END:STANDARD
BEGIN:DAYLIGHT
TZOFFSETFROM:+0100
TZOFFSETTO:+0200
TZNAME:CEST
DTSTART:20230326T010000
END:DAYLIGHT
BEGIN:STANDARD
TZOFFSETFROM:+0200
TZOFFSETTO:+0100
TZNAME:CET
DTSTART:20231029T010000
END:STANDARD
BEGIN:DAYLIGHT
TZOFFSETFROM:+0100
TZOFFSETTO:+0200
TZNAME:CEST
DTSTART:20240331T010000
END:DAYLIGHT
BEGIN:STANDARD
TZOFFSETFROM:+0200
TZOFFSETTO:+0100
TZNAME:CET
DTSTART:20241027T010000
END:STANDARD
END:VTIMEZONE
BEGIN:VEVENT
DTSTART;TZID=Europe/Berlin:20230206T093000
DTEND;TZID=Europe/Berlin:20230210T170000
DTSTAMP:20260419T190203
CREATED:20230111T083424Z
LAST-MODIFIED:20230111T083623Z
UID:10000056-1675675800-1676048400@staging.fleck-dach.de
SUMMARY:BouwBeurs 2023
DESCRIPTION:Die Messe BouwBeurs Utrecht ist eine internationale Baumesse. Mehr als 675 Aussteller präsentieren sich auf der BouwBeurs mit ihren Produkten\, Dienstleistungen und aktuellen Trends rund um das Thema Bauen. Das Angebotsspektrum der Baumesse umfasst dabei die Themenbereiche Ausbau\, Holz\, Baustoffe und Baumaterial\, Nutzfahrzeuge\, Sicherheit\, Dachsysteme\, Isolierung und Ziegel\, Werkzeuge\, Schrauben\, Berufskleidung\, Fassadensysteme und Elemente wie Fenster und Türen\, Schlossereien\, Installationen\, Sanitärkeramik und Projektküchen sowie auch Renovierung\, Instandhaltung\, Informationen und Wissen. Ein umfangreiches inhaltliches Programm mit verschiedenen Themen rundet das Ausstellerangebot der Utrecht Bouwbeurs Messe ab. \nFLECK hat einen Stand in Halle 11 (Dach + Isolierung): 11.E004 und wir vor Ort u. a. den ROOFGUARD\, den 4 in 1 Flachdachlüfter sowie die Solarflex-Universalträgerpfanne präsentieren. \nWeitere Informationen zu der Veranstaltung finden Sie hier. \n  \nPräsentiert von \n \n  \nFür Sie von FLECK vor Ort \nErik Disselbeck\, Gebietsverkaufsleiter im Gebiet Süd-West\, PLZ-Bereiche 50\, 52-56\, 60–69 \nRoman Burkart\, Mitarbeiter im Verkaufsinnendienst
URL:https://staging.fleck-dach.de/termine/bouwbeurs-2023/
LOCATION:Jaarbeurs Utrecht\, Jaarbeursplein 6\, Utrecht\, NL-3521\, Niederlande
CATEGORIES:Handel,Planer/Architekten,Verarbeiter
ATTACH;FMTTYPE=image/png:https://staging.fleck-dach.de/wp-content/uploads/2023/01/bouwbeurs-2023.png
END:VEVENT
END:VCALENDAR