BEGIN:VCALENDAR
VERSION:2.0
PRODID:-//Fleck | Dachzubehör! - ECPv6.15.20//NONSGML v1.0//EN
CALSCALE:GREGORIAN
METHOD:PUBLISH
X-WR-CALNAME:Fleck | Dachzubehör!
X-ORIGINAL-URL:https://staging.fleck-dach.de
X-WR-CALDESC:Veranstaltungen für Fleck | Dachzubehör!
REFRESH-INTERVAL;VALUE=DURATION:PT1H
X-Robots-Tag:noindex
X-PUBLISHED-TTL:PT1H
BEGIN:VTIMEZONE
TZID:Europe/Berlin
BEGIN:DAYLIGHT
TZOFFSETFROM:+0100
TZOFFSETTO:+0200
TZNAME:CEST
DTSTART:20220327T010000
END:DAYLIGHT
BEGIN:STANDARD
TZOFFSETFROM:+0200
TZOFFSETTO:+0100
TZNAME:CET
DTSTART:20221030T010000
END:STANDARD
BEGIN:DAYLIGHT
TZOFFSETFROM:+0100
TZOFFSETTO:+0200
TZNAME:CEST
DTSTART:20230326T010000
END:DAYLIGHT
BEGIN:STANDARD
TZOFFSETFROM:+0200
TZOFFSETTO:+0100
TZNAME:CET
DTSTART:20231029T010000
END:STANDARD
BEGIN:DAYLIGHT
TZOFFSETFROM:+0100
TZOFFSETTO:+0200
TZNAME:CEST
DTSTART:20240331T010000
END:DAYLIGHT
BEGIN:STANDARD
TZOFFSETFROM:+0200
TZOFFSETTO:+0100
TZNAME:CET
DTSTART:20241027T010000
END:STANDARD
END:VTIMEZONE
BEGIN:VEVENT
DTSTART;VALUE=DATE:20231105
DTEND;VALUE=DATE:20231107
DTSTAMP:20260419T220546
CREATED:20230405T090745Z
LAST-MODIFIED:20230808T063229Z
UID:10000112-1699142400-1699315199@staging.fleck-dach.de
SUMMARY:EUROBAUSTOFF FORUM 2023
DESCRIPTION:Auch 2023 findet das EUROBAUSTOFF FORUM  wieder als Präsenzveranstaltung statt. Teilnehmer:innen haben vor Ort die Möglichkeit\, exklusive Konditionen namhafter Hersteller für ihr erfolgreiches Jahr 2024 zu nutzen und sich mit Lieferanten und Kolleg:innen auszutauschen. Im letzten Jahr kamen rund 500 Austeller:innen und insgesamt 8.700 Teilnehmer:innen zusammen. \nGenaue Informationen zum Veranstaltungsort und der Anmeldung folgen noch. \n  \nPräsentiert von \n \n  \nFür Sie von FLECK vor Ort \nChristoph Nielacny\, Geschäftsführer der Fleck GmbH \nDanny Neuhaus\, Gebietsverkaufsleiter im PLZ-Bereich 3 \nRobert Middeweg\, Gebietsverkaufsleiter in den PLZ-Bereichen 40-42\, 47\, 51\, 57
URL:https://staging.fleck-dach.de/termine/eurobaustoff-forum-2023/
LOCATION:Kölnmesse GmbH\, Messepl. 1\, Köln\, Nordrhein-Westfalen\, 50679
CATEGORIES:Handel
ATTACH;FMTTYPE=image/jpeg:https://staging.fleck-dach.de/wp-content/uploads/2023/03/eurobaustoff-forum-scaled.jpg
ORGANIZER;CN="EUROBAUSTOFF Handelsgesellschaft mbH & Co. KG":MAILTO:info@eurobaustoff.de
END:VEVENT
BEGIN:VEVENT
DTSTART;VALUE=DATE:20230428
DTEND;VALUE=DATE:20230430
DTSTAMP:20260419T220546
CREATED:20230214T093852Z
LAST-MODIFIED:20240318T061113Z
UID:10000074-1682640000-1682812799@staging.fleck-dach.de
SUMMARY:Neuheitenschau 2023
DESCRIPTION:Kurze Wege\, komplettes Programm: Im Jahr 2023 veranstaltet die GC-GRUPPE wieder ihre traditionellen Neuheitenschauen. An sechs Standorten heißt es zwischen dem 19. April und 23. Juni wieder: sich informieren\, austauschen und auf den aktuellen Stand in Sachen Haustechnik bringen – beim Branchentreff vor der Haustür des Fachhandwerks. \nGebietsverkaufsleiter Erik Disselbeck stellt vor Ort das Dachzubehör von FLECK vor. \nWeitere Informationen zu der Veranstaltung finden Sie hier. \n  \nPräsentiert von \n \n  \nFür Sie von FLECK vor Ort \nErik Disselbeck\, Gebietsverkaufsleiter in den PLZ-Bereichen 50\, 52-56\, 60–69
URL:https://staging.fleck-dach.de/termine/gc-neuheitenschau-2023/
LOCATION:Kölnmesse GmbH\, Messepl. 1\, Köln\, Nordrhein-Westfalen\, 50679
CATEGORIES:Verarbeiter
ATTACH;FMTTYPE=image/jpeg:https://staging.fleck-dach.de/wp-content/uploads/2022/11/fleck_dtg_stuhr.jpeg
ORGANIZER;CN="GC Gro%C3%9Fhandels Contor GmbH":MAILTO:info@gc-gruppe.de
END:VEVENT
END:VCALENDAR