BEGIN:VCALENDAR
VERSION:2.0
PRODID:-//Fleck | Dachzubehör! - ECPv6.15.20//NONSGML v1.0//EN
CALSCALE:GREGORIAN
METHOD:PUBLISH
X-ORIGINAL-URL:https://staging.fleck-dach.de
X-WR-CALDESC:Veranstaltungen für Fleck | Dachzubehör!
REFRESH-INTERVAL;VALUE=DURATION:PT1H
X-Robots-Tag:noindex
X-PUBLISHED-TTL:PT1H
BEGIN:VTIMEZONE
TZID:Europe/Berlin
BEGIN:DAYLIGHT
TZOFFSETFROM:+0100
TZOFFSETTO:+0200
TZNAME:CEST
DTSTART:20220327T010000
END:DAYLIGHT
BEGIN:STANDARD
TZOFFSETFROM:+0200
TZOFFSETTO:+0100
TZNAME:CET
DTSTART:20221030T010000
END:STANDARD
BEGIN:DAYLIGHT
TZOFFSETFROM:+0100
TZOFFSETTO:+0200
TZNAME:CEST
DTSTART:20230326T010000
END:DAYLIGHT
BEGIN:STANDARD
TZOFFSETFROM:+0200
TZOFFSETTO:+0100
TZNAME:CET
DTSTART:20231029T010000
END:STANDARD
BEGIN:DAYLIGHT
TZOFFSETFROM:+0100
TZOFFSETTO:+0200
TZNAME:CEST
DTSTART:20240331T010000
END:DAYLIGHT
BEGIN:STANDARD
TZOFFSETFROM:+0200
TZOFFSETTO:+0100
TZNAME:CET
DTSTART:20241027T010000
END:STANDARD
END:VTIMEZONE
BEGIN:VEVENT
DTSTART;TZID=Europe/Berlin:20231109T093000
DTEND;TZID=Europe/Berlin:20231109T153000
DTSTAMP:20260419T205400
CREATED:20230925T135828Z
LAST-MODIFIED:20230925T135828Z
UID:10000160-1699522200-1699543800@staging.fleck-dach.de
SUMMARY:Trägerforum Beschäftigtentransfer 2023
DESCRIPTION:Am 9. November findet das alljährliche G.I.B.-Trägerforum Beschäftigtentransfer in Bottrop statt. Im Zuge dessen wird es auch eine Podiumsdiskussion zum Thema „Hier Entlassungen\, dort Fachkräfte dringend gesucht – wie müssten Transferträger\, Unternehmen\, Arbeitsagentur und Weiterbildungsanbieter zusammenwirken\, um Bedarfen gut zu begegnen?“ geben\, an der unser Geschäftsführer Christoph Nielacny teilnehmen wird. \nWeitere Details zum Programm und die Möglichkeit zur Anmeldung finden Sie hier. \n  \nPräsentiert von \n \n  \nFür Sie von FLECK vor Ort \nChristoph Nielacny\, Geschäftsführer der Fleck GmbH
URL:https://staging.fleck-dach.de/termine/traegerforum-beschaeftigtentransfer-2023/
LOCATION:„Lohnhalle“ G.I.B. NRW\, Im Blankenfeld 4\, Bottrop\, Nordrhein-Westfalen\, 46238\, Deutschland
ATTACH;FMTTYPE=image/jpeg:https://staging.fleck-dach.de/wp-content/uploads/2023/09/tetrahedron-2196123_1280-e1695650288263.jpg
ORGANIZER;CN="G.I.B. %E2%80%93 Gesellschaft f%C3%BCr innovative Besch%C3%A4ftigungsf%C3%B6rderung mbH":MAILTO:mail@gib.nrw.de
END:VEVENT
END:VCALENDAR