BEGIN:VCALENDAR
VERSION:2.0
PRODID:-//Fleck | Dachzubehör! - ECPv6.15.20//NONSGML v1.0//EN
CALSCALE:GREGORIAN
METHOD:PUBLISH
X-ORIGINAL-URL:https://staging.fleck-dach.de
X-WR-CALDESC:Veranstaltungen für Fleck | Dachzubehör!
REFRESH-INTERVAL;VALUE=DURATION:PT1H
X-Robots-Tag:noindex
X-PUBLISHED-TTL:PT1H
BEGIN:VTIMEZONE
TZID:Europe/Berlin
BEGIN:DAYLIGHT
TZOFFSETFROM:+0100
TZOFFSETTO:+0200
TZNAME:CEST
DTSTART:20240331T010000
END:DAYLIGHT
BEGIN:STANDARD
TZOFFSETFROM:+0200
TZOFFSETTO:+0100
TZNAME:CET
DTSTART:20241027T010000
END:STANDARD
BEGIN:DAYLIGHT
TZOFFSETFROM:+0100
TZOFFSETTO:+0200
TZNAME:CEST
DTSTART:20250330T010000
END:DAYLIGHT
BEGIN:STANDARD
TZOFFSETFROM:+0200
TZOFFSETTO:+0100
TZNAME:CET
DTSTART:20251026T010000
END:STANDARD
BEGIN:DAYLIGHT
TZOFFSETFROM:+0100
TZOFFSETTO:+0200
TZNAME:CEST
DTSTART:20260329T010000
END:DAYLIGHT
BEGIN:STANDARD
TZOFFSETFROM:+0200
TZOFFSETTO:+0100
TZNAME:CET
DTSTART:20261025T010000
END:STANDARD
END:VTIMEZONE
BEGIN:VEVENT
DTSTART;TZID=Europe/Berlin:20251017T130000
DTEND;TZID=Europe/Berlin:20251017T200000
DTSTAMP:20260419T205222
CREATED:20251031T105820Z
LAST-MODIFIED:20251031T105820Z
UID:10000420-1760706000-1760731200@staging.fleck-dach.de
SUMMARY:Neueröffnungsparty Melle Gallhöfer Döbern
DESCRIPTION:Am 17. Oktober 2025 findet die Eröffnungsparty von Melle Gallhöfer in Döbern statt. Bei kühlen Getränken und leckeren Köstlichkeiten freuen wir uns auf Sie und Informative Gespräche. Unser Gebietsverkaufsleiter Olaf Bellack wird vor Ort mit dabei sein. \n  \nPräsentiert von \n \n  \nFür Sie von FLECK vor Ort \nOlaf Bellack\, Gebietsverkaufsleiter in den PLZ-Bereichen 1\, 03
URL:https://staging.fleck-dach.de/termine/neueroeffnungsparty-melle-gallhoefer-doebern/
LOCATION:Melle Gallhöfer Dach GmbH Döbern\, Muskauer Str. 33a\, Döbern\, Brandenburg\, 03159\, Deutschland
CATEGORIES:Verarbeiter
ATTACH;FMTTYPE=image/jpeg:https://staging.fleck-dach.de/wp-content/uploads/2025/10/251007-fle-veranstaltung-doebern-scaled-e1761907801964.jpeg
ORGANIZER;CN="Melle Gallh%C3%B6fer Dach GmbH":MAILTO:info@melle-gallhoefer.de
END:VEVENT
BEGIN:VEVENT
DTSTART;VALUE=DATE:20250307
DTEND;VALUE=DATE:20250308
DTSTAMP:20260419T205222
CREATED:20241218T100856Z
LAST-MODIFIED:20241218T100856Z
UID:10000340-1741305600-1741391999@staging.fleck-dach.de
SUMMARY:Handwerkertag bei Melle Gallhöfer in Döbern
DESCRIPTION:Am 7. März lädt die Niederlassung der Melle Gallhöfer Dach GmbH aus Döbern zum Handwerkertag ein. Verarbeiter sind eingeladen\, sich vor Ort über Produkte und aktuelle Trends in der Baubranche auszutauschen. \n  \nPräsentiert von \n \n  \nFür Sie von FLECK vor Ort \nOlaf Bellack\, Gebietsverkaufsleiter in den PLZ-Bereichen 1\, 03
URL:https://staging.fleck-dach.de/termine/handwerkertag-bei-melle-gallhoefer-in-doebern/
LOCATION:Melle Gallhöfer Dach GmbH Döbern\, Muskauer Str. 33a\, Döbern\, Brandenburg\, 03159\, Deutschland
CATEGORIES:Handel
ATTACH;FMTTYPE=image/jpeg:https://staging.fleck-dach.de/wp-content/uploads/2024/12/melle-gallhoefer-doebern-scaled.jpg
ORGANIZER;CN="Melle Gallh%C3%B6fer Dach GmbH":MAILTO:info@melle-gallhoefer.de
END:VEVENT
END:VCALENDAR