BEGIN:VCALENDAR
VERSION:2.0
PRODID:-//Fleck | Dachzubehör! - ECPv6.15.20//NONSGML v1.0//EN
CALSCALE:GREGORIAN
METHOD:PUBLISH
X-ORIGINAL-URL:https://staging.fleck-dach.de
X-WR-CALDESC:Veranstaltungen für Fleck | Dachzubehör!
REFRESH-INTERVAL;VALUE=DURATION:PT1H
X-Robots-Tag:noindex
X-PUBLISHED-TTL:PT1H
BEGIN:VTIMEZONE
TZID:Europe/Berlin
BEGIN:DAYLIGHT
TZOFFSETFROM:+0100
TZOFFSETTO:+0200
TZNAME:CEST
DTSTART:20220327T010000
END:DAYLIGHT
BEGIN:STANDARD
TZOFFSETFROM:+0200
TZOFFSETTO:+0100
TZNAME:CET
DTSTART:20221030T010000
END:STANDARD
BEGIN:DAYLIGHT
TZOFFSETFROM:+0100
TZOFFSETTO:+0200
TZNAME:CEST
DTSTART:20230326T010000
END:DAYLIGHT
BEGIN:STANDARD
TZOFFSETFROM:+0200
TZOFFSETTO:+0100
TZNAME:CET
DTSTART:20231029T010000
END:STANDARD
BEGIN:DAYLIGHT
TZOFFSETFROM:+0100
TZOFFSETTO:+0200
TZNAME:CEST
DTSTART:20240331T010000
END:DAYLIGHT
BEGIN:STANDARD
TZOFFSETFROM:+0200
TZOFFSETTO:+0100
TZNAME:CET
DTSTART:20241027T010000
END:STANDARD
END:VTIMEZONE
BEGIN:VEVENT
DTSTART;TZID=Europe/Berlin:20231128T100000
DTEND;TZID=Europe/Berlin:20231128T121500
DTSTAMP:20260419T173308
CREATED:20230214T085034Z
LAST-MODIFIED:20230413T061639Z
UID:10000089-1701165600-1701173700@staging.fleck-dach.de
SUMMARY:Planer Symposium – Leben unterm Dach – Anforderungen für den Wohnraum darunter
DESCRIPTION:Am 28. November lädt „Wir lieben Bau“ zu einem neuen Online-Planer Symposium ein: Leben unterm Dach – Anforderungen für den Wohnraum darunter. Unser Produktmanager Peter Nowack wird in seinem Vortrag passendes Steildach-Zubehör von FLECK vorstellen. Die Teilnahme ist kostenlos und deutschlandweit bei allen Architekten- und Ingenieurkammern akkreditiert\, sodass auch sog. „Weiterbildungspunkte“ vergeben werden. \n\n\nDas erwartet Sie: \n\n\n\n\nProtektor \n\n„Fugenanordnung / Planung im Dachgeschossausbau mit Gipsplatten“\n\nBeispiele aus der Praxis\nVorgaben nach VOB-C (2019)\nFugenplanung analog Merkblatt 3 des Bundesverbandes der Gipsindustrie e.V. (IGG)\n\n\n\nFLECK \n\nDurchdringungen im Steildach sicher planen\n\nSteildachlüfter- und Durchdringungen – Planung und Ausführungsdetails\nSolaranlagen auf dem Steildach – Einbau z.B. nach den ZVDH Empfehlungen\nSicherheitssysteme für das Steildach – Anforderung\, Bemessung\, Ergänzungen\n\n\n\nVELUX\n„Planung mit Dachfenstern: Licht\, Luft\, Bauphysik“ \n\nBelichtung\n\nBedeutung von Tageslicht\nDIN EN 17037 „Tageslicht in Innenräumen“\nSimulationstool Daylight Visualizer\n\n\nLüftung\n\nNormung\nPraxislösungen\n\n\nAnschlüsse\n\nWärmedämmung\nLuftdichtheit\nInnenverkleidung\n\n\nProjektbeispiele\n\nWohnen\nBüro\n\n\n\n\n\nWeitere Informationen zu der Veranstaltung sowie den Anmelde-Link finden Sie hier. \n  \nPräsentiert von \n \n  \nFür Sie von FLECK vor Ort \nPeter Nowack\, Produktmanager und Spezialist für Dachzubehör
URL:https://staging.fleck-dach.de/termine/planer-symposium-leben-unterm-dach-anforderungen-fuer-den-wohnraum-darunter-november/
LOCATION:Online
CATEGORIES:Planer/Architekten
ATTACH;FMTTYPE=image/jpeg:https://staging.fleck-dach.de/wp-content/uploads/2023/01/fle_news_wir-lieben-bau-2000x845-1.jpeg
END:VEVENT
BEGIN:VEVENT
DTSTART;TZID=Europe/Berlin:20230929T110000
DTEND;TZID=Europe/Berlin:20230929T135500
DTSTAMP:20260419T173308
CREATED:20230214T090735Z
LAST-MODIFIED:20230413T061250Z
UID:10000096-1695985200-1695995700@staging.fleck-dach.de
SUMMARY:Planer Symposium – Urbane Lebensräume gestalten - Wie Flachdächer die städtische Landschaft prägen
DESCRIPTION:Am 29. September lädt „Wir lieben Bau“ zu einem neuen Online-Planer Symposium ein: Urbane Lebensräume gestalten – Wie Flachdächer die städtische Landschaft prägen. Unser Produktmanager Peter Nowack wird in seinem Vortrag passendes Flachdach-Zubehör von FLECK vorstellen. Die Teilnahme ist kostenlos und deutschlandweit bei allen Architekten- und Ingenieurkammern akkreditiert\, sodass auch sog. „Weiterbildungspunkte“ vergeben werden. \n\n\nDas erwartet Sie: \nACO \nDie normgerechte Auslegung einer Flachdachentwässerung \n\nGrundlagen der Planung\n\nDer Weg bis zur fertigen Planung ist oft steinig. Beim Gang dieses Weges helfen Normen und Regelwerke oft weiter.\nWelche Normen\, Regelwerke und technische Grundlagen spielen bei der Planung einer Flachdachentwässerung eine Rolle?\n\n\nPlanung der Flachdachentwässerung\n\nBei der Planung der Dachentwässerung ist wichtigste Punkt die Berechnung der Regenwassermenge. Sie bestimmt die Anzahl\, die Dimension und Art der Abläufe\nFestlegung des Entwässerungssystems hier gibt es zwei verschiedene Arten \, die Freispiegelentwässerung und die Unterdruckentwässerung\nNeben der Regelentwässerung hat ein Flachdach in den meisten Fällen noch einen Notentwässerung\, die ebenfalls berechnet werden muss\n\n\nArten der Entwässerung\nEs ist oft nicht einfach das Entwässerungssystem festzulegen. Neben dem klassischen Freispiegelsystem gibt es Unterdrucksysteme\nWir möchten Hilfestellungen geben\, wann welches System zum Einsatz kommen kann\n\nFLECK \n\nKaltdach\n\nBesonderheiten eines Kaltdach\nGebäudesanierung und Bedeutung für das Kaltdach\nSchadensminimierung bei Kaltdächern bei nachträglichen Durchdringungen\nNachträgliche Maßnahmen (z.B. Rücktrocknung)\n\n\nWarmdächer\n\nkonstruktiver Unterschied zum Kaltdach\nPlanung vom Deckendurchbruch bis zur Abdichtung\nMöglichkeiten zur Vermeidung von Kondensat\nWrasenlüfter\, Raumentlüfter\, Sanitärentlüfter\nEntlüftung von Aufzugschächten\n\n\nEnergiedächer\n\nAnforderungen an die Durchführung\nLösungsansätze\n\n\n\nILD \nDichtheitsüberwachung im Gründach – Notwendigkeit\, Planung\, Wirtschaftlichkeit \n\nDie 4 Tendenzen im Flachdachbau – Gründächer\, Retentionsdächer\, Photovoltaik\, technische Aufbauten\n\nWas bedeutet das für die Flachdachabdichtung\n\n\nDichtheitsprüfung zur Bauabnahme – Wie wird es heute gemacht / Wie kann man sicher prüfen\n\nPraxisbeispiele\n\n\nMöglichkeiten der dauerhaften Sensorüberwachung\n\nAuswahl an Systemen\nTechnische Funktion\nPraxisbeispiele\n\n\n\nVELUX \n\nVELUX Lichtlösungen im Flachdach – für alle Gebäudetypen\nDIN EN 17037 „Tageslicht in Innenräumen“\n\nGrundlagen und Empfehlungsstufen\nBesonderheit: horizontale Öffnungen\n\n\nFunktionen von Fenstern\, technische Eigenschaften\n\nBelichtung\, Blendschutz\, Hitzeschutz\nLüftung\nEntrauchung\n\n\nAnschluss-Details\n\nFlachdach-Fenster\nLichtkuppeln\n\n\n\n\n\n\n\n\n\n\n\n\nWeitere Informationen zu der Veranstaltung sowie den Anmelde-Link finden Sie hier. \n  \nPräsentiert von \n \n  \nFür Sie von FLECK vor Ort \nPeter Nowack\, Produktmanager und Spezialist für Dachzubehör
URL:https://staging.fleck-dach.de/termine/planer-symposium-urbane-lebensraeume-gestalten-wie-flachdaecher-die-staedtische-landschaft-praegen-september/
LOCATION:Online
CATEGORIES:Planer/Architekten
ATTACH;FMTTYPE=image/jpeg:https://staging.fleck-dach.de/wp-content/uploads/2023/01/fle_news_wir-lieben-bau-2000x845-1.jpeg
END:VEVENT
BEGIN:VEVENT
DTSTART;TZID=Europe/Berlin:20230901T110000
DTEND;TZID=Europe/Berlin:20230901T131500
DTSTAMP:20260419T173308
CREATED:20230214T084951Z
LAST-MODIFIED:20230802T123208Z
UID:10000090-1693566000-1693574100@staging.fleck-dach.de
SUMMARY:Planer Symposium – Leben unterm Dach – Anforderungen für den Wohnraum darunter
DESCRIPTION:Am 1. September lädt „Wir lieben Bau“ zu einem neuen Online-Planer Symposium ein: Leben unterm Dach – Anforderungen für den Wohnraum darunter. Unser Produktmanager Peter Nowack wird in seinem Vortrag passendes Steildach-Zubehör von FLECK vorstellen. Die Teilnahme ist kostenlos und deutschlandweit bei allen Architekten- und Ingenieurkammern akkreditiert\, sodass auch sog. „Weiterbildungspunkte“ vergeben werden. \n\n\nDas erwartet Sie: \n\n\n\n\nProtektor \n\n„Fugenanordnung / Planung im Dachgeschossausbau mit Gipsplatten“\n\nBeispiele aus der Praxis\nVorgaben nach VOB-C (2019)\nFugenplanung analog Merkblatt 3 des Bundesverbandes der Gipsindustrie e.V. (IGG)\n\n\n\nFLECK \n\nDurchdringungen im Steildach sicher planen\n\nSteildachlüfter- und Durchdringungen – Planung und Ausführungsdetails\nSolaranlagen auf dem Steildach – Einbau z.B. nach den ZVDH Empfehlungen\nSicherheitssysteme für das Steildach – Anforderung\, Bemessung\, Ergänzungen\n\n\n\nVELUX\n„Planung mit Dachfenstern: Licht\, Luft\, Bauphysik“ \n\nBelichtung\n\nBedeutung von Tageslicht\nDIN EN 17037 „Tageslicht in Innenräumen“\nSimulationstool Daylight Visualizer\n\n\nLüftung\n\nNormung\nPraxislösungen\n\n\nAnschlüsse\n\nWärmedämmung\nLuftdichtheit\nInnenverkleidung\n\n\nProjektbeispiele\n\nWohnen\nBüro\n\n\n\n\n\nWeitere Informationen zu der Veranstaltung sowie den Anmelde-Link finden Sie hier. \n  \nPräsentiert von \n \n  \nFür Sie von FLECK vor Ort \nPeter Nowack\, Produktmanager und Spezialist für Dachzubehör
URL:https://staging.fleck-dach.de/termine/planer-symposium-leben-unterm-dach-anforderungen-fuer-den-wohnraum-darunter-september/
LOCATION:Online
CATEGORIES:Planer/Architekten
ATTACH;FMTTYPE=image/jpeg:https://staging.fleck-dach.de/wp-content/uploads/2023/01/fle_news_wir-lieben-bau-2000x845-1.jpeg
END:VEVENT
BEGIN:VEVENT
DTSTART;TZID=Europe/Berlin:20230713T090000
DTEND;TZID=Europe/Berlin:20230713T115500
DTSTAMP:20260419T173308
CREATED:20230214T090759Z
LAST-MODIFIED:20230413T055848Z
UID:10000097-1689238800-1689249300@staging.fleck-dach.de
SUMMARY:Planer Symposium – Urbane Lebensräume gestalten - Wie Flachdächer die städtische Landschaft prägen
DESCRIPTION:Am 13. Juli lädt „Wir lieben Bau“ zu einem neuen Online-Planer Symposium ein: Urbane Lebensräume gestalten – Wie Flachdächer die städtische Landschaft prägen. Unser Produktmanager Peter Nowack wird in seinem Vortrag passendes Flachdach-Zubehör von FLECK vorstellen. Die Teilnahme ist kostenlos und deutschlandweit bei allen Architekten- und Ingenieurkammern akkreditiert\, sodass auch sog. „Weiterbildungspunkte“ vergeben werden. \n\n\nDas erwartet Sie: \nACO \nDie normgerechte Auslegung einer Flachdachentwässerung \n\nGrundlagen der Planung\n\nDer Weg bis zur fertigen Planung ist oft steinig. Beim Gang dieses Weges helfen Normen und Regelwerke oft weiter.\nWelche Normen\, Regelwerke und technische Grundlagen spielen bei der Planung einer Flachdachentwässerung eine Rolle?\n\n\nPlanung der Flachdachentwässerung\n\nBei der Planung der Dachentwässerung ist wichtigste Punkt die Berechnung der Regenwassermenge. Sie bestimmt die Anzahl\, die Dimension und Art der Abläufe\nFestlegung des Entwässerungssystems hier gibt es zwei verschiedene Arten \, die Freispiegelentwässerung und die Unterdruckentwässerung\nNeben der Regelentwässerung hat ein Flachdach in den meisten Fällen noch einen Notentwässerung\, die ebenfalls berechnet werden muss\n\n\nArten der Entwässerung\nEs ist oft nicht einfach das Entwässerungssystem festzulegen. Neben dem klassischen Freispiegelsystem gibt es Unterdrucksysteme\nWir möchten Hilfestellungen geben\, wann welches System zum Einsatz kommen kann\n\nFLECK \n\nKaltdach\n\nBesonderheiten eines Kaltdach\nGebäudesanierung und Bedeutung für das Kaltdach\nSchadensminimierung bei Kaltdächern bei nachträglichen Durchdringungen\nNachträgliche Maßnahmen (z.B. Rücktrocknung)\n\n\nWarmdächer\n\nkonstruktiver Unterschied zum Kaltdach\nPlanung vom Deckendurchbruch bis zur Abdichtung\nMöglichkeiten zur Vermeidung von Kondensat\nWrasenlüfter\, Raumentlüfter\, Sanitärentlüfter\nEntlüftung von Aufzugschächten\n\n\nEnergiedächer\n\nAnforderungen an die Durchführung\nLösungsansätze\n\n\n\nILD \nDichtheitsüberwachung im Gründach – Notwendigkeit\, Planung\, Wirtschaftlichkeit \n\nDie 4 Tendenzen im Flachdachbau – Gründächer\, Retentionsdächer\, Photovoltaik\, technische Aufbauten\n\nWas bedeutet das für die Flachdachabdichtung\n\n\nDichtheitsprüfung zur Bauabnahme – Wie wird es heute gemacht / Wie kann man sicher prüfen\n\nPraxisbeispiele\n\n\nMöglichkeiten der dauerhaften Sensorüberwachung\n\nAuswahl an Systemen\nTechnische Funktion\nPraxisbeispiele\n\n\n\nVELUX \n\nVELUX Lichtlösungen im Flachdach – für alle Gebäudetypen\nDIN EN 17037 „Tageslicht in Innenräumen“\n\nGrundlagen und Empfehlungsstufen\nBesonderheit: horizontale Öffnungen\n\n\nFunktionen von Fenstern\, technische Eigenschaften\n\nBelichtung\, Blendschutz\, Hitzeschutz\nLüftung\nEntrauchung\n\n\nAnschluss-Details\n\nFlachdach-Fenster\nLichtkuppeln\n\n\n\n\n\n\n\n\n\n\n\n\nWeitere Informationen zu der Veranstaltung sowie den Anmelde-Link finden Sie hier. \n  \nPräsentiert von \n \n  \nFür Sie von FLECK vor Ort \nPeter Nowack\, Produktmanager und Spezialist für Dachzubehör
URL:https://staging.fleck-dach.de/termine/planer-symposium-urbane-lebensraeume-gestalten-wie-flachdaecher-die-staedtische-landschaft-praegen-juli/
LOCATION:Online
CATEGORIES:Planer/Architekten
ATTACH;FMTTYPE=image/jpeg:https://staging.fleck-dach.de/wp-content/uploads/2023/01/fle_news_wir-lieben-bau-2000x845-1.jpeg
END:VEVENT
BEGIN:VEVENT
DTSTART;VALUE=DATE:20230627
DTEND;VALUE=DATE:20230628
DTSTAMP:20260419T173308
CREATED:20230223T134240Z
LAST-MODIFIED:20230612T053902Z
UID:10000102-1687824000-1687910399@staging.fleck-dach.de
SUMMARY:2. Live Online-Symposium "System Flachdach" von RAL
DESCRIPTION:Am 27. Juni findet das 2. Live Online-Symposium „System Flachdach“ von RAL statt. Im letzten Jahr wurden wichtige Themen besprochen\, u. a. wie den immer häufiger auftretenden Starkregenereignissen\, die zu immensen Schäden an Dächern führen\, entgegengewirkt werden kann. Auch in diesem Jahr sprechen Expert:innen der Mitgliederunternehmen über Qualitätsmanagement\, Nachhaltigkeit\, Digitalisierung und Zukunftsaussichten im Flachdachbau. \nUnser Produktmanager Peter Nowack wird für FLECK einen Vortrag zum Thema „Flachdach im Wandel – Mit FLECK sicher durch die Decke“ halten. \nHier können Sie sich anmelden. \n  \nPräsentiert vom \n \n  \nFür Sie von FLECK vor Ort \nPeter Nowack\, Produktmanager und Spezialist für Dachzubehör
URL:https://staging.fleck-dach.de/termine/2-live-online-symposium-system-flachdach-von-ral/
LOCATION:Online
CATEGORIES:Planer/Architekten,Verarbeiter
ATTACH;FMTTYPE=image/jpeg:https://staging.fleck-dach.de/wp-content/uploads/2023/02/unknown-7.jpeg
ORGANIZER;CN="G%C3%BCtegemeinschaft FLACHDACH e. V.":MAILTO:info@ral-flachdach.de
END:VEVENT
BEGIN:VEVENT
DTSTART;TZID=Europe/Berlin:20230613T090000
DTEND;TZID=Europe/Berlin:20230613T111500
DTSTAMP:20260419T173308
CREATED:20230214T084901Z
LAST-MODIFIED:20230413T055650Z
UID:10000091-1686646800-1686654900@staging.fleck-dach.de
SUMMARY:Planer Symposium – Leben unterm Dach – Anforderungen für den Wohnraum darunter
DESCRIPTION:Am 13. Juni lädt „Wir lieben Bau“ zu einem neuen Online-Planer Symposium ein: Leben unterm Dach – Anforderungen für den Wohnraum darunter. Unser Produktmanager Peter Nowack wird in seinem Vortrag passendes Steildach-Zubehör von FLECK vorstellen. Die Teilnahme ist kostenlos und deutschlandweit bei allen Architekten- und Ingenieurkammern akkreditiert\, sodass auch sog. „Weiterbildungspunkte“ vergeben werden. \n\n\nDas erwartet Sie: \n\n\n\n\nProtektor \n\n„Fugenanordnung / Planung im Dachgeschossausbau mit Gipsplatten“\n\nBeispiele aus der Praxis\nVorgaben nach VOB-C (2019)\nFugenplanung analog Merkblatt 3 des Bundesverbandes der Gipsindustrie e.V. (IGG)\n\n\n\nFLECK \n\nDurchdringungen im Steildach sicher planen\n\nSteildachlüfter- und Durchdringungen – Planung und Ausführungsdetails\nSolaranlagen auf dem Steildach – Einbau z.B. nach den ZVDH Empfehlungen\nSicherheitssysteme für das Steildach – Anforderung\, Bemessung\, Ergänzungen\n\n\n\nVELUX\n„Planung mit Dachfenstern: Licht\, Luft\, Bauphysik“ \n\nBelichtung\n\nBedeutung von Tageslicht\nDIN EN 17037 „Tageslicht in Innenräumen“\nSimulationstool Daylight Visualizer\n\n\nLüftung\n\nNormung\nPraxislösungen\n\n\nAnschlüsse\n\nWärmedämmung\nLuftdichtheit\nInnenverkleidung\n\n\nProjektbeispiele\n\nWohnen\nBüro\n\n\n\n\n\nWeitere Informationen zu der Veranstaltung sowie den Anmelde-Link finden Sie hier. \n  \nPräsentiert von \n \n  \nFür Sie von FLECK vor Ort \nPeter Nowack\, Produktmanager und Spezialist für Dachzubehör
URL:https://staging.fleck-dach.de/termine/planer-symposium-leben-unterm-dach-anforderungen-fuer-den-wohnraum-darunter-juni/
LOCATION:Online
CATEGORIES:Planer/Architekten
ATTACH;FMTTYPE=image/jpeg:https://staging.fleck-dach.de/wp-content/uploads/2023/01/fle_news_wir-lieben-bau-2000x845-1.jpeg
END:VEVENT
BEGIN:VEVENT
DTSTART;TZID=Europe/Berlin:20230607T110000
DTEND;TZID=Europe/Berlin:20230607T120000
DTSTAMP:20260419T173308
CREATED:20230223T133535Z
LAST-MODIFIED:20230413T055533Z
UID:10000101-1686135600-1686139200@staging.fleck-dach.de
SUMMARY:ROCKWOOL FORUM: Schrägdach Kompakt
DESCRIPTION:In der Online-Verbundschulung wird gebündeltes Fachwissen zur Planung und Ausführung einer Schrägdachdämmung im Neubau und bei Sanierungen vermittelt. Die Schrägdachkonstruktion ist ein äußerst komplexes Bauteil\, das zahlreiche Anforderungen erfüllen muss. Dazu gehören insbesondere der Brand-\, Schall- und Wärmeschutz sowie die Dauerhaftigkeit. Unser Produktmanager Peter Nowack wird sein umfassendes Fachwissen zum Thema „Durchdringungen und sichere Zubehörteile im Steil- und Solardach“ teilen\, damit Sie alle Anforderungen gerecht werden. \nGenaue Informationen zum Veranstaltungsort und den Anmelde-Link finden Sie hier. \n  \nPräsentiert von \n \n  \nFür Sie von FLECK vor Ort \nPeter Nowack\, Produktmanager und Spezialist für Dachzubehör
URL:https://staging.fleck-dach.de/termine/rockwool-forum-schraegdach-kompakt/
LOCATION:Online
CATEGORIES:Planer/Architekten
ATTACH;FMTTYPE=image/png:https://staging.fleck-dach.de/wp-content/uploads/2023/01/fle_veranstaltung_steildach.png
ORGANIZER;CN="DEUTSCHE ROCKWOOL GmbH & Co. KG":MAILTO:info@rockwool.de
END:VEVENT
BEGIN:VEVENT
DTSTART;VALUE=DATE:20230606
DTEND;VALUE=DATE:20230607
DTSTAMP:20260419T173308
CREATED:20230223T132858Z
LAST-MODIFIED:20230223T143226Z
UID:10000100-1686009600-1686095999@staging.fleck-dach.de
SUMMARY:Initiative Steildach/DACHKULT Mitgliederversammlung 2023
DESCRIPTION:Am 6. Juni lädt die Initiative Steildach/DACHKULT zur nächsten Online-Mitgliederversammlung ein. Bei den letzten Malen standen u. a. personelle\, organisatorische und vereinsrechtliche Entscheidungen auf der Agenda. \n  \nPräsentiert von
URL:https://staging.fleck-dach.de/termine/initiative-steildachdachkult-mitgliederversammlung-juni/
LOCATION:Online
CATEGORIES:Handel
ATTACH;FMTTYPE=image/jpeg:https://staging.fleck-dach.de/wp-content/uploads/2023/01/fle_website_news_partner_dachlkultur-1729x900-1.jpeg
ORGANIZER;CN="Initiative Steildach/DACHKULT":MAILTO:info@dachkult.de
END:VEVENT
BEGIN:VEVENT
DTSTART;TZID=Europe/Berlin:20230503T090000
DTEND;TZID=Europe/Berlin:20230503T115500
DTSTAMP:20260419T173308
CREATED:20230214T090555Z
LAST-MODIFIED:20230413T054624Z
UID:10000095-1683104400-1683114900@staging.fleck-dach.de
SUMMARY:Planer Symposium – Urbane Lebensräume gestalten - Wie Flachdächer die städtische Landschaft prägen
DESCRIPTION:Am 3. Mai lädt „Wir lieben Bau“ zu einem neuen Online-Planer Symposium ein: Urbane Lebensräume gestalten – Wie Flachdächer die städtische Landschaft prägen. Unser Produktmanager Peter Nowack wird in seinem Vortrag passendes Flachdach-Zubehör von FLECK vorstellen. Die Teilnahme ist kostenlos und deutschlandweit bei allen Architekten- und Ingenieurkammern akkreditiert\, sodass auch sog. „Weiterbildungspunkte“ vergeben werden. \n\n\nDas erwartet Sie: \nACO \nDie normgerechte Auslegung einer Flachdachentwässerung \n\nGrundlagen der Planung\n\nDer Weg bis zur fertigen Planung ist oft steinig. Beim Gang dieses Weges helfen Normen und Regelwerke oft weiter.\nWelche Normen\, Regelwerke und technische Grundlagen spielen bei der Planung einer Flachdachentwässerung eine Rolle?\n\n\nPlanung der Flachdachentwässerung\n\nBei der Planung der Dachentwässerung ist wichtigste Punkt die Berechnung der Regenwassermenge. Sie bestimmt die Anzahl\, die Dimension und Art der Abläufe\nFestlegung des Entwässerungssystems hier gibt es zwei verschiedene Arten \, die Freispiegelentwässerung und die Unterdruckentwässerung\nNeben der Regelentwässerung hat ein Flachdach in den meisten Fällen noch einen Notentwässerung\, die ebenfalls berechnet werden muss\n\n\nArten der Entwässerung\nEs ist oft nicht einfach das Entwässerungssystem festzulegen. Neben dem klassischen Freispiegelsystem gibt es Unterdrucksysteme\nWir möchten Hilfestellungen geben\, wann welches System zum Einsatz kommen kann\n\nFLECK \n\nKaltdach\n\nBesonderheiten eines Kaltdach\nGebäudesanierung und Bedeutung für das Kaltdach\nSchadensminimierung bei Kaltdächern bei nachträglichen Durchdringungen\nNachträgliche Maßnahmen (z.B. Rücktrocknung)\n\n\nWarmdächer\n\nkonstruktiver Unterschied zum Kaltdach\nPlanung vom Deckendurchbruch bis zur Abdichtung\nMöglichkeiten zur Vermeidung von Kondensat\nWrasenlüfter\, Raumentlüfter\, Sanitärentlüfter\nEntlüftung von Aufzugschächten\n\n\nEnergiedächer\n\nAnforderungen an die Durchführung\nLösungsansätze\n\n\n\nILD \nDichtheitsüberwachung im Gründach – Notwendigkeit\, Planung\, Wirtschaftlichkeit \n\nDie 4 Tendenzen im Flachdachbau – Gründächer\, Retentionsdächer\, Photovoltaik\, technische Aufbauten\n\nWas bedeutet das für die Flachdachabdichtung\n\n\nDichtheitsprüfung zur Bauabnahme – Wie wird es heute gemacht / Wie kann man sicher prüfen\n\nPraxisbeispiele\n\n\nMöglichkeiten der dauerhaften Sensorüberwachung\n\nAuswahl an Systemen\nTechnische Funktion\nPraxisbeispiele\n\n\n\nVELUX \n\nVELUX Lichtlösungen im Flachdach – für alle Gebäudetypen\nDIN EN 17037 „Tageslicht in Innenräumen“\n\nGrundlagen und Empfehlungsstufen\nBesonderheit: horizontale Öffnungen\n\n\nFunktionen von Fenstern\, technische Eigenschaften\n\nBelichtung\, Blendschutz\, Hitzeschutz\nLüftung\nEntrauchung\n\n\nAnschluss-Details\n\nFlachdach-Fenster\nLichtkuppeln\n\n\n\n\n\n\n\n\n\n\n\n\nWeitere Informationen zu der Veranstaltung sowie den Anmelde-Link finden Sie hier. \n  \nPräsentiert von \n \n  \nFür Sie von FLECK vor Ort \nPeter Nowack\, Produktmanager und Spezialist für Dachzubehör
URL:https://staging.fleck-dach.de/termine/planer-symposium-urbane-lebensraeume-gestalten-wie-flachdaecher-die-staedtische-landschaft-praegen-mai/
LOCATION:Online
CATEGORIES:Planer/Architekten
ATTACH;FMTTYPE=image/jpeg:https://staging.fleck-dach.de/wp-content/uploads/2023/01/fle_news_wir-lieben-bau-2000x845-1.jpeg
END:VEVENT
BEGIN:VEVENT
DTSTART;TZID=Europe/Berlin:20230323T100000
DTEND;TZID=Europe/Berlin:20230323T121500
DTSTAMP:20260419T173308
CREATED:20230214T084307Z
LAST-MODIFIED:20230214T084652Z
UID:10000086-1679565600-1679573700@staging.fleck-dach.de
SUMMARY:Planer Symposium – Leben unterm Dach – Anforderungen für den Wohnraum darunter
DESCRIPTION:Am 23. März lädt „Wir lieben Bau“ zu einem neuen Online-Planer Symposium ein: Leben unterm Dach – Anforderungen für den Wohnraum darunter. Unser Produktmanager Peter Nowack wird in seinem Vortrag passendes Steildach-Zubehör von FLECK vorstellen. Die Teilnahme ist kostenlos und deutschlandweit bei allen Architekten- und Ingenieurkammern akkreditiert\, sodass auch sog. „Weiterbildungspunkte“ vergeben werden. \n\n\nDas erwartet Sie: \n\n\n\n\nProtektor \n\n„Fugenanordnung / Planung im Dachgeschossausbau mit Gipsplatten“\n\nBeispiele aus der Praxis\nVorgaben nach VOB-C (2019)\nFugenplanung analog Merkblatt 3 des Bundesverbandes der Gipsindustrie e.V. (IGG)\n\n\n\nFLECK \n\nDurchdringungen im Steildach sicher planen\n\nSteildachlüfter- und Durchdringungen – Planung und Ausführungsdetails\nSolaranlagen auf dem Steildach – Einbau z.B. nach den ZVDH Empfehlungen\nSicherheitssysteme für das Steildach – Anforderung\, Bemessung\, Ergänzungen\n\n\n\nVELUX\n„Planung mit Dachfenstern: Licht\, Luft\, Bauphysik“ \n\nBelichtung\n\nBedeutung von Tageslicht\nDIN EN 17037 „Tageslicht in Innenräumen“\nSimulationstool Daylight Visualizer\n\n\nLüftung\n\nNormung\nPraxislösungen\n\n\nAnschlüsse\n\nWärmedämmung\nLuftdichtheit\nInnenverkleidung\n\n\nProjektbeispiele\n\nWohnen\nBüro\n\n\n\n\n\nWeitere Informationen zu der Veranstaltung sowie den Anmelde-Link finden Sie hier. \n  \nPräsentiert von \n \n  \nFür Sie von FLECK vor Ort \nPeter Nowack\, Produktmanager und Spezialist für Dachzubehör
URL:https://staging.fleck-dach.de/termine/planer-symposium-leben-unterm-dach-anforderungen-fuer-den-wohnraum-darunter-maerz/
LOCATION:Online
CATEGORIES:Planer/Architekten
ATTACH;FMTTYPE=image/jpeg:https://staging.fleck-dach.de/wp-content/uploads/2023/01/fle_news_wir-lieben-bau-2000x845-1.jpeg
END:VEVENT
END:VCALENDAR