BEGIN:VCALENDAR
VERSION:2.0
PRODID:-//Fleck | Dachzubehör! - ECPv6.15.20//NONSGML v1.0//EN
CALSCALE:GREGORIAN
METHOD:PUBLISH
X-WR-CALNAME:Fleck | Dachzubehör!
X-ORIGINAL-URL:https://staging.fleck-dach.de
X-WR-CALDESC:Veranstaltungen für Fleck | Dachzubehör!
REFRESH-INTERVAL;VALUE=DURATION:PT1H
X-Robots-Tag:noindex
X-PUBLISHED-TTL:PT1H
BEGIN:VTIMEZONE
TZID:Europe/Berlin
BEGIN:DAYLIGHT
TZOFFSETFROM:+0100
TZOFFSETTO:+0200
TZNAME:CEST
DTSTART:20240331T010000
END:DAYLIGHT
BEGIN:STANDARD
TZOFFSETFROM:+0200
TZOFFSETTO:+0100
TZNAME:CET
DTSTART:20241027T010000
END:STANDARD
BEGIN:DAYLIGHT
TZOFFSETFROM:+0100
TZOFFSETTO:+0200
TZNAME:CEST
DTSTART:20250330T010000
END:DAYLIGHT
BEGIN:STANDARD
TZOFFSETFROM:+0200
TZOFFSETTO:+0100
TZNAME:CET
DTSTART:20251026T010000
END:STANDARD
BEGIN:DAYLIGHT
TZOFFSETFROM:+0100
TZOFFSETTO:+0200
TZNAME:CEST
DTSTART:20260329T010000
END:DAYLIGHT
BEGIN:STANDARD
TZOFFSETFROM:+0200
TZOFFSETTO:+0100
TZNAME:CET
DTSTART:20261025T010000
END:STANDARD
END:VTIMEZONE
BEGIN:VEVENT
DTSTART;TZID=Europe/Berlin:20250623T174500
DTEND;TZID=Europe/Berlin:20250623T213000
DTSTAMP:20260424T103012
CREATED:20250527T133706Z
LAST-MODIFIED:20250602T064639Z
UID:10000394-1750700700-1750714200@staging.fleck-dach.de
SUMMARY:RoofTopTalks #27
DESCRIPTION:Am 23. Juni gehen die RoofTopTalks in die 27. Runde. Im Rahmen der Veranstaltung stellt Dachkult verschiedene Beispiele dachintegrierter Photovoltaik aus Deutschland und den Niederlanden vor. Gezeigt wird\, wie solare Energiedächer sowohl im Neubau als auch bei der Sanierung – vom Einfamilienhaus bis zum größeren Wohngebäude – bereits heute in unterschiedlichen Maßstäben umgesetzt werden. \nZur Anmeldung geht es hier. \n  \nPräsentiert von \n \n  \nFür Sie von FLECK vor Ort \nStefan Bittner\, Gebietsverkaufsleiter in den PLZ-Bereichen 40-42\, 47\, 51\, 57
URL:https://staging.fleck-dach.de/termine/rooftoptalks-27/
LOCATION:Plange Mühle FUENF\, WERFT 1 GmbH\, Erftstraße 6\, Düsseldorf\, Nordrhein-Westfalen\, 40219\, Deutschland
CATEGORIES:Planer/Architekten
ATTACH;FMTTYPE=image/jpeg:https://staging.fleck-dach.de/wp-content/uploads/2022/09/fle_event_rooftop-talks.jpg
ORGANIZER;CN="Initiative Steildach/DACHKULT":MAILTO:info@dachkult.de
END:VEVENT
END:VCALENDAR