BEGIN:VCALENDAR
VERSION:2.0
PRODID:-//Fleck | Dachzubehör! - ECPv6.15.20//NONSGML v1.0//EN
CALSCALE:GREGORIAN
METHOD:PUBLISH
X-ORIGINAL-URL:https://staging.fleck-dach.de
X-WR-CALDESC:Veranstaltungen für Fleck | Dachzubehör!
REFRESH-INTERVAL;VALUE=DURATION:PT1H
X-Robots-Tag:noindex
X-PUBLISHED-TTL:PT1H
BEGIN:VTIMEZONE
TZID:Europe/Berlin
BEGIN:DAYLIGHT
TZOFFSETFROM:+0100
TZOFFSETTO:+0200
TZNAME:CEST
DTSTART:20230326T010000
END:DAYLIGHT
BEGIN:STANDARD
TZOFFSETFROM:+0200
TZOFFSETTO:+0100
TZNAME:CET
DTSTART:20231029T010000
END:STANDARD
BEGIN:DAYLIGHT
TZOFFSETFROM:+0100
TZOFFSETTO:+0200
TZNAME:CEST
DTSTART:20240331T010000
END:DAYLIGHT
BEGIN:STANDARD
TZOFFSETFROM:+0200
TZOFFSETTO:+0100
TZNAME:CET
DTSTART:20241027T010000
END:STANDARD
BEGIN:DAYLIGHT
TZOFFSETFROM:+0100
TZOFFSETTO:+0200
TZNAME:CEST
DTSTART:20250330T010000
END:DAYLIGHT
BEGIN:STANDARD
TZOFFSETFROM:+0200
TZOFFSETTO:+0100
TZNAME:CET
DTSTART:20251026T010000
END:STANDARD
END:VTIMEZONE
BEGIN:VEVENT
DTSTART;VALUE=DATE:20240320
DTEND;VALUE=DATE:20240321
DTSTAMP:20260419T173527
CREATED:20240228T144826Z
LAST-MODIFIED:20240304T083614Z
UID:10000224-1710892800-1710979199@staging.fleck-dach.de
SUMMARY:Raiffeisen Dach-Tage 2024 Meiningen
DESCRIPTION:Am 20. März finden die Raiffeisen Dach-Tage in Meinigen statt\, welche interessante Einblicke in die Dachwelt bieten. \n  \nPräsentiert von
URL:https://staging.fleck-dach.de/termine/raiffeisen-dach-tage-2024-meiningen/
LOCATION:Raiffeisen Waren GmbH Meiningen\, Am Alten Flugplatz 8\, Meiningen\, Thüringen\, 98617\, Deutschland
CATEGORIES:Verarbeiter
ATTACH;FMTTYPE=image/jpeg:https://staging.fleck-dach.de/wp-content/uploads/2024/02/raiffeisen-ideengarten-meiningen-001.jpeg
ORGANIZER;CN="Raiffeisen Waren GmbH":MAILTO:info@rw.net
END:VEVENT
END:VCALENDAR