BEGIN:VCALENDAR
VERSION:2.0
PRODID:-//Fleck | Dachzubehör! - ECPv6.15.20//NONSGML v1.0//EN
CALSCALE:GREGORIAN
METHOD:PUBLISH
X-ORIGINAL-URL:https://staging.fleck-dach.de
X-WR-CALDESC:Veranstaltungen für Fleck | Dachzubehör!
REFRESH-INTERVAL;VALUE=DURATION:PT1H
X-Robots-Tag:noindex
X-PUBLISHED-TTL:PT1H
BEGIN:VTIMEZONE
TZID:Europe/Berlin
BEGIN:DAYLIGHT
TZOFFSETFROM:+0100
TZOFFSETTO:+0200
TZNAME:CEST
DTSTART:20230326T010000
END:DAYLIGHT
BEGIN:STANDARD
TZOFFSETFROM:+0200
TZOFFSETTO:+0100
TZNAME:CET
DTSTART:20231029T010000
END:STANDARD
BEGIN:DAYLIGHT
TZOFFSETFROM:+0100
TZOFFSETTO:+0200
TZNAME:CEST
DTSTART:20240331T010000
END:DAYLIGHT
BEGIN:STANDARD
TZOFFSETFROM:+0200
TZOFFSETTO:+0100
TZNAME:CET
DTSTART:20241027T010000
END:STANDARD
BEGIN:DAYLIGHT
TZOFFSETFROM:+0100
TZOFFSETTO:+0200
TZNAME:CEST
DTSTART:20250330T010000
END:DAYLIGHT
BEGIN:STANDARD
TZOFFSETFROM:+0200
TZOFFSETTO:+0100
TZNAME:CET
DTSTART:20251026T010000
END:STANDARD
END:VTIMEZONE
BEGIN:VEVENT
DTSTART;TZID=Europe/Berlin:20241128T093000
DTEND;TZID=Europe/Berlin:20241128T161500
DTSTAMP:20260419T161136
CREATED:20240816T122740Z
LAST-MODIFIED:20241022T130806Z
UID:10000297-1732786200-1732810500@staging.fleck-dach.de
SUMMARY:RAL Architektenseminar 2024
DESCRIPTION:Am 28. November findet das RAL Architektenseminar statt. Thema ist in diesem Jahr „Vom Schutzdach zum Nutzdach“. Auch in diesem Jahr sprechen Experten der Mitgliedsunternehmen über aktuelle Themen. \nUnser Produktmanager Peter Nowack wird für FLECK einen Vortrag zum Thema „Durchdringungen im Flachdach sicher planen“ halten. \nHier können Sie sich anmelden. \n  \nPräsentiert vom \n \n  \nFür Sie von FLECK vor Ort \nPeter Nowack\, Produktmanager und Spezialist für Dachzubehör
URL:https://staging.fleck-dach.de/termine/ral-architektenseminar-2024/
LOCATION:RAL Deutsches Institut für Gütesicherung und Kennzeichnung e.V.\, Fränkische Str. 7\, Bonn\, Nordrhein-Westfalen\, 53229\, Deutschland
CATEGORIES:Planer/Architekten
ATTACH;FMTTYPE=image/jpeg:https://staging.fleck-dach.de/wp-content/uploads/2023/02/unknown-7.jpeg
ORGANIZER;CN="G%C3%BCtegemeinschaft FLACHDACH e. V.":MAILTO:info@ral-flachdach.de
END:VEVENT
END:VCALENDAR