BEGIN:VCALENDAR
VERSION:2.0
PRODID:-//Fleck | Dachzubehör! - ECPv6.15.20//NONSGML v1.0//EN
CALSCALE:GREGORIAN
METHOD:PUBLISH
X-ORIGINAL-URL:https://staging.fleck-dach.de
X-WR-CALDESC:Veranstaltungen für Fleck | Dachzubehör!
REFRESH-INTERVAL;VALUE=DURATION:PT1H
X-Robots-Tag:noindex
X-PUBLISHED-TTL:PT1H
BEGIN:VTIMEZONE
TZID:Europe/Berlin
BEGIN:DAYLIGHT
TZOFFSETFROM:+0100
TZOFFSETTO:+0200
TZNAME:CEST
DTSTART:20240331T010000
END:DAYLIGHT
BEGIN:STANDARD
TZOFFSETFROM:+0200
TZOFFSETTO:+0100
TZNAME:CET
DTSTART:20241027T010000
END:STANDARD
BEGIN:DAYLIGHT
TZOFFSETFROM:+0100
TZOFFSETTO:+0200
TZNAME:CEST
DTSTART:20250330T010000
END:DAYLIGHT
BEGIN:STANDARD
TZOFFSETFROM:+0200
TZOFFSETTO:+0100
TZNAME:CET
DTSTART:20251026T010000
END:STANDARD
BEGIN:DAYLIGHT
TZOFFSETFROM:+0100
TZOFFSETTO:+0200
TZNAME:CEST
DTSTART:20260329T010000
END:DAYLIGHT
BEGIN:STANDARD
TZOFFSETFROM:+0200
TZOFFSETTO:+0100
TZNAME:CET
DTSTART:20261025T010000
END:STANDARD
END:VTIMEZONE
BEGIN:VEVENT
DTSTART;TZID=Europe/Berlin:20250516T100000
DTEND;TZID=Europe/Berlin:20250516T150000
DTSTAMP:20260419T203523
CREATED:20250327T132416Z
LAST-MODIFIED:20250519T123436Z
UID:10000375-1747389600-1747407600@staging.fleck-dach.de
SUMMARY:RBV Hausmesse
DESCRIPTION:Seit vielen Jahrzehnten ist Ravensberger Baustoffe-Vertrieb August Kreft GmbH & Co. KG (kurz RBV) ein zuverlässiger Partner für Dachdecker\, Zimmerer und Fassadenbauer in Bielefeld und Umgebung und veranstaltet am 16. Mai 2025 eine Hausmesse\, bei der auch FLECK vertreten sein wird. Innendienstmitarbeiter Roman Burkart von FLECK wird die Messe begleiten und innovative FLECK-Produkte präsentieren. \n  \nPräsentiert von \n \n  \nFür Sie von FLECK vor Ort \n\nRoman Burkart\, Mitarbeiter im Verkaufsinnendienst
URL:https://staging.fleck-dach.de/termine/rbv-hausmesse/
LOCATION:Ravensberger Baustoffe-Vertr. August Kreft GmbH & Co. KG Böttcherstraße 5 33609 Bielefeld\, Böttcherstraße 5\, Bielefeld\, Nordrhein-Westfalen.\, 33609\, Deutschland
CATEGORIES:Handel,Planer/Architekten,Verarbeiter
ATTACH;FMTTYPE=image/jpeg:https://staging.fleck-dach.de/wp-content/uploads/2025/03/adobestock_410220200-scaled.jpeg
END:VEVENT
END:VCALENDAR