BEGIN:VCALENDAR
VERSION:2.0
PRODID:-//Fleck | Dachzubehör! - ECPv6.15.20//NONSGML v1.0//EN
CALSCALE:GREGORIAN
METHOD:PUBLISH
X-ORIGINAL-URL:https://staging.fleck-dach.de
X-WR-CALDESC:Veranstaltungen für Fleck | Dachzubehör!
REFRESH-INTERVAL;VALUE=DURATION:PT1H
X-Robots-Tag:noindex
X-PUBLISHED-TTL:PT1H
BEGIN:VTIMEZONE
TZID:Europe/Berlin
BEGIN:DAYLIGHT
TZOFFSETFROM:+0100
TZOFFSETTO:+0200
TZNAME:CEST
DTSTART:20210328T010000
END:DAYLIGHT
BEGIN:STANDARD
TZOFFSETFROM:+0200
TZOFFSETTO:+0100
TZNAME:CET
DTSTART:20211031T010000
END:STANDARD
BEGIN:DAYLIGHT
TZOFFSETFROM:+0100
TZOFFSETTO:+0200
TZNAME:CEST
DTSTART:20220327T010000
END:DAYLIGHT
BEGIN:STANDARD
TZOFFSETFROM:+0200
TZOFFSETTO:+0100
TZNAME:CET
DTSTART:20221030T010000
END:STANDARD
BEGIN:DAYLIGHT
TZOFFSETFROM:+0100
TZOFFSETTO:+0200
TZNAME:CEST
DTSTART:20230326T010000
END:DAYLIGHT
BEGIN:STANDARD
TZOFFSETFROM:+0200
TZOFFSETTO:+0100
TZNAME:CET
DTSTART:20231029T010000
END:STANDARD
END:VTIMEZONE
BEGIN:VEVENT
DTSTART;VALUE=DATE:20221102
DTEND;VALUE=DATE:20221103
DTSTAMP:20260419T205032
CREATED:20221011T134701Z
LAST-MODIFIED:20221011T134701Z
UID:10000018-1667347200-1667433599@staging.fleck-dach.de
SUMMARY:ZDBF-Mitgliederversammlung 2022
DESCRIPTION:Das Marktumfeld der Bedachungsbranche unterliegt einer ständigen Dynamik. Gesamtwirtschaftliche Entwicklungen und Trends sowie insbesondere Veränderungen in der Gesetzgebung stellen den Bedachungsfachhandel immer wieder vor Herausforderungen. \nDer ZDBF stellt eine Kommunikationsplattform dar\, auf der sich Bedachungsfachhändler auf allen Gebieten innerhalb der Wertschöpfungskette des Bedachungsmarktes im Rahmen der kartellrechtlichen Grenzen austauschen können. Für die diesjährige Mitgliederversammlung hat der ZDBF in das Rheinhotel Dreesen in Bonn eingeladen. \nWeitere Informationen zum ZDBF finden Sie hier. \n  \nPräsentiert vom \n \n  \nFür Sie von FLECK vor Ort \nChristoph Nielacny\, FLECK-Geschäftsführer
URL:https://staging.fleck-dach.de/termine/zdbf-mitgliederversammlung-2022/
LOCATION:Rheinhotel Dreesen\, Rheinstraße 45-49\, Bonn\, Nordrhein-Westfalen\, 53179
CATEGORIES:Handel
ATTACH;FMTTYPE=image/jpeg:https://staging.fleck-dach.de/wp-content/uploads/2022/10/fle_event_zdbf-mitgliederversammlung.jpg
ORGANIZER;CN="Zentralverband des Deutschen Bedachungsfachhandels e.V.":MAILTO:info@zdbf.de
END:VEVENT
END:VCALENDAR