BEGIN:VCALENDAR
VERSION:2.0
PRODID:-//Fleck | Dachzubehör! - ECPv6.15.20//NONSGML v1.0//EN
CALSCALE:GREGORIAN
METHOD:PUBLISH
X-ORIGINAL-URL:https://staging.fleck-dach.de
X-WR-CALDESC:Veranstaltungen für Fleck | Dachzubehör!
REFRESH-INTERVAL;VALUE=DURATION:PT1H
X-Robots-Tag:noindex
X-PUBLISHED-TTL:PT1H
BEGIN:VTIMEZONE
TZID:Europe/Berlin
BEGIN:DAYLIGHT
TZOFFSETFROM:+0100
TZOFFSETTO:+0200
TZNAME:CEST
DTSTART:20240331T010000
END:DAYLIGHT
BEGIN:STANDARD
TZOFFSETFROM:+0200
TZOFFSETTO:+0100
TZNAME:CET
DTSTART:20241027T010000
END:STANDARD
BEGIN:DAYLIGHT
TZOFFSETFROM:+0100
TZOFFSETTO:+0200
TZNAME:CEST
DTSTART:20250330T010000
END:DAYLIGHT
BEGIN:STANDARD
TZOFFSETFROM:+0200
TZOFFSETTO:+0100
TZNAME:CET
DTSTART:20251026T010000
END:STANDARD
BEGIN:DAYLIGHT
TZOFFSETFROM:+0100
TZOFFSETTO:+0200
TZNAME:CEST
DTSTART:20260329T010000
END:DAYLIGHT
BEGIN:STANDARD
TZOFFSETFROM:+0200
TZOFFSETTO:+0100
TZNAME:CET
DTSTART:20261025T010000
END:STANDARD
END:VTIMEZONE
BEGIN:VEVENT
DTSTART;VALUE=DATE:20250507
DTEND;VALUE=DATE:20250508
DTSTAMP:20260419T141921
CREATED:20240719T094949Z
LAST-MODIFIED:20240719T094949Z
UID:10000286-1746576000-1746662399@staging.fleck-dach.de
SUMMARY:ZDBF-Mitgliederversammlung 2025
DESCRIPTION:Der Bedachungsfachhandel steht vor kontinuierlich wechselnden Herausforderungen aufgrund der dynamischen Natur des Marktumfelds in der Bedachungsbranche\, da gesamtwirtschaftliche Entwicklungen\, Trends und vor allem Veränderungen in der Gesetzgebung diesen maßgeblich beeinflussen. \nDer ZDBF hat es sich zur Aufgabe gemacht\, als Kommunikationsplattform zu fungieren\, die es Bedachungsfachhändler:innen ermöglicht\, innerhalb der rechtlichen Vorgaben des Kartellrechts Informationen und Erfahrungen in allen Bereichen der Wertschöpfungskette des Bedachungsmarktes auszutauschen. \nWeitere Informationen zum ZDBF finden Sie hier. \n  \nPräsentiert vom \n \n  \nFür Sie von FLECK vor Ort \nChristoph Nielacny\, Geschäftsführer der Fleck GmbH
URL:https://staging.fleck-dach.de/termine/zdbf-mitgliederversammlung-2025/
LOCATION:Sheraton Hannover Pelikan Hotel\, Pelikanpl. 31\, Hannover\, Niedersachsen\, 30177\, Deutschland
CATEGORIES:Handel
ATTACH;FMTTYPE=image/jpeg:https://staging.fleck-dach.de/wp-content/uploads/2022/10/fle_event_zdbf-mitgliederversammlung.jpg
ORGANIZER;CN="Zentralverband des Deutschen Bedachungsfachhandels e.V.":MAILTO:info@zdbf.de
END:VEVENT
END:VCALENDAR