BEGIN:VCALENDAR
VERSION:2.0
PRODID:-//Fleck | Dachzubehör! - ECPv6.15.20//NONSGML v1.0//EN
CALSCALE:GREGORIAN
METHOD:PUBLISH
X-WR-CALNAME:Fleck | Dachzubehör!
X-ORIGINAL-URL:https://staging.fleck-dach.de
X-WR-CALDESC:Veranstaltungen für Fleck | Dachzubehör!
REFRESH-INTERVAL;VALUE=DURATION:PT1H
X-Robots-Tag:noindex
X-PUBLISHED-TTL:PT1H
BEGIN:VTIMEZONE
TZID:Europe/Berlin
BEGIN:DAYLIGHT
TZOFFSETFROM:+0100
TZOFFSETTO:+0200
TZNAME:CEST
DTSTART:20220327T010000
END:DAYLIGHT
BEGIN:STANDARD
TZOFFSETFROM:+0200
TZOFFSETTO:+0100
TZNAME:CET
DTSTART:20221030T010000
END:STANDARD
BEGIN:DAYLIGHT
TZOFFSETFROM:+0100
TZOFFSETTO:+0200
TZNAME:CEST
DTSTART:20230326T010000
END:DAYLIGHT
BEGIN:STANDARD
TZOFFSETFROM:+0200
TZOFFSETTO:+0100
TZNAME:CET
DTSTART:20231029T010000
END:STANDARD
BEGIN:DAYLIGHT
TZOFFSETFROM:+0100
TZOFFSETTO:+0200
TZNAME:CEST
DTSTART:20240331T010000
END:DAYLIGHT
BEGIN:STANDARD
TZOFFSETFROM:+0200
TZOFFSETTO:+0100
TZNAME:CET
DTSTART:20241027T010000
END:STANDARD
END:VTIMEZONE
BEGIN:VEVENT
DTSTART;VALUE=DATE:20231125
DTEND;VALUE=DATE:20231126
DTSTAMP:20260419T185253
CREATED:20240924T124255Z
LAST-MODIFIED:20240930T072602Z
UID:10000311-1700870400-1700956799@staging.fleck-dach.de
SUMMARY:QVSD Mitgliederversammlung
DESCRIPTION:Die Mitgliederversammlung des QVSD findet am 25. November in Berlin statt. Das Treffen erfolgt unmittelbar vor dem Forum Solar PLUS und bietet eine ideale Gelegenheit zum fachlichen Austausch. FLECK-Geschäftsführer Christoph Nielacny wird vor Ort mit dabei sein. \nWeitere Informationen und das Anmeldeformular finden Sie hier. \n  \nPräsentiert von \n \n  \nFür Sie von FLECK vor Ort \nChristoph Nielacny\, Geschäftsführer der Fleck GmbH
URL:https://staging.fleck-dach.de/termine/qvsd-mitgliederversammlung/
LOCATION:tba Berlin\, Eisenacher Str. 119\, Berlin\, Berlin\, 10777
CATEGORIES:Handel
ATTACH;FMTTYPE=image/jpeg:https://staging.fleck-dach.de/wp-content/uploads/2024/09/qvsd-mitgliederversammlung-2024-881x460-1.jpg
ORGANIZER;CN="Qualit%C3%A4tsverband Solar- und Dachtechnik (QVSD) e.V.":MAILTO:info@qvsd.de
END:VEVENT
END:VCALENDAR