BEGIN:VCALENDAR
VERSION:2.0
PRODID:-//Fleck | Dachzubehör! - ECPv6.15.20//NONSGML v1.0//EN
CALSCALE:GREGORIAN
METHOD:PUBLISH
X-ORIGINAL-URL:https://staging.fleck-dach.de
X-WR-CALDESC:Veranstaltungen für Fleck | Dachzubehör!
REFRESH-INTERVAL;VALUE=DURATION:PT1H
X-Robots-Tag:noindex
X-PUBLISHED-TTL:PT1H
BEGIN:VTIMEZONE
TZID:Europe/Berlin
BEGIN:DAYLIGHT
TZOFFSETFROM:+0100
TZOFFSETTO:+0200
TZNAME:CEST
DTSTART:20220327T010000
END:DAYLIGHT
BEGIN:STANDARD
TZOFFSETFROM:+0200
TZOFFSETTO:+0100
TZNAME:CET
DTSTART:20221030T010000
END:STANDARD
BEGIN:DAYLIGHT
TZOFFSETFROM:+0100
TZOFFSETTO:+0200
TZNAME:CEST
DTSTART:20230326T010000
END:DAYLIGHT
BEGIN:STANDARD
TZOFFSETFROM:+0200
TZOFFSETTO:+0100
TZNAME:CET
DTSTART:20231029T010000
END:STANDARD
BEGIN:DAYLIGHT
TZOFFSETFROM:+0100
TZOFFSETTO:+0200
TZNAME:CEST
DTSTART:20240331T010000
END:DAYLIGHT
BEGIN:STANDARD
TZOFFSETFROM:+0200
TZOFFSETTO:+0100
TZNAME:CET
DTSTART:20241027T010000
END:STANDARD
END:VTIMEZONE
BEGIN:VEVENT
DTSTART;TZID=Europe/Berlin:20230927T134000
DTEND;TZID=Europe/Berlin:20230927T195500
DTSTAMP:20260419T155331
CREATED:20230823T054447Z
LAST-MODIFIED:20230921T084454Z
UID:10000151-1695822000-1695844500@staging.fleck-dach.de
SUMMARY:ROCKWOOL FORUM in Berlin: Bauen für die Zukunft
DESCRIPTION:Diese Verbundschulung gewährt einen umfassenden Einblick in die Gebäude der Zukunft aus der Perspektive des Planers\, des Verarbeiters und des Nutzers. Moderne Gebäude werden sich zukünftig mit sämtliche technischen Funktionen miteinander verbinden und sich über zentrale Steuerungspunkte handhaben. Die automatische Integration von Komfort\, Sicherheit und Energieeffizienz\, gestützt auf eine solide Bausubstanz\, stellt den entscheidenden Ansatz für die Realisierung von Intelligentem Bauten dar. Unser Produktmanager Peter Nowack wird dabei sein umfassendes Fachwissen zum Thema „Durchdringungen sicher planen bei Flach-\, Steil- und Solardächern“ teilen\, damit Sie allen Anforderungen gerecht werden. \nGenaue Informationen zum Veranstaltungsort und den Anmelde-Link finden Sie hier. \n  \nPräsentiert von \n \n  \nFür Sie von FLECK vor Ort \nPeter Nowack\, Produktmanager und Spezialist für Dachzubehör
URL:https://staging.fleck-dach.de/termine/rockwool-forum-in-berlin-bauen-fuer-die-zukunft/
LOCATION:Van der Valk Hotel Berlin Brandenburg\, Eschenweg 18\, Blankenfelde-Mahlow\, Berlin\, 15827
CATEGORIES:Planer/Architekten,Verarbeiter
ATTACH;FMTTYPE=image/jpeg:https://staging.fleck-dach.de/wp-content/uploads/2022/10/fle_event_rockwool-schulung_darmstadt.jpg
ORGANIZER;CN="DEUTSCHE ROCKWOOL GmbH & Co. KG":MAILTO:info@rockwool.de
END:VEVENT
END:VCALENDAR