BEGIN:VCALENDAR
VERSION:2.0
PRODID:-//Fleck | Dachzubehör! - ECPv6.15.20//NONSGML v1.0//EN
CALSCALE:GREGORIAN
METHOD:PUBLISH
X-ORIGINAL-URL:https://staging.fleck-dach.de
X-WR-CALDESC:Veranstaltungen für Fleck | Dachzubehör!
REFRESH-INTERVAL;VALUE=DURATION:PT1H
X-Robots-Tag:noindex
X-PUBLISHED-TTL:PT1H
BEGIN:VTIMEZONE
TZID:Europe/Berlin
BEGIN:DAYLIGHT
TZOFFSETFROM:+0100
TZOFFSETTO:+0200
TZNAME:CEST
DTSTART:20240331T010000
END:DAYLIGHT
BEGIN:STANDARD
TZOFFSETFROM:+0200
TZOFFSETTO:+0100
TZNAME:CET
DTSTART:20241027T010000
END:STANDARD
BEGIN:DAYLIGHT
TZOFFSETFROM:+0100
TZOFFSETTO:+0200
TZNAME:CEST
DTSTART:20250330T010000
END:DAYLIGHT
BEGIN:STANDARD
TZOFFSETFROM:+0200
TZOFFSETTO:+0100
TZNAME:CET
DTSTART:20251026T010000
END:STANDARD
BEGIN:DAYLIGHT
TZOFFSETFROM:+0100
TZOFFSETTO:+0200
TZNAME:CEST
DTSTART:20260329T010000
END:DAYLIGHT
BEGIN:STANDARD
TZOFFSETFROM:+0200
TZOFFSETTO:+0100
TZNAME:CET
DTSTART:20261025T010000
END:STANDARD
END:VTIMEZONE
BEGIN:VEVENT
DTSTART;TZID=Europe/Berlin:20250912T103000
DTEND;TZID=Europe/Berlin:20250913T140000
DTSTAMP:20260419T173649
CREATED:20250606T132200Z
LAST-MODIFIED:20250804T080307Z
UID:10000398-1757673000-1757772000@staging.fleck-dach.de
SUMMARY:8. Mitteldeutscher Dachtag
DESCRIPTION:Vom 12. bis zum 13. September findet bereits zum achten Mal der Mitteldeutsche Dachtag statt. Durchgeführt wird der Dachtag von den Verbänden Sachsen-Anhalt und Thüringen. Auf der Agenda stehen interessante Vorträge aber natürlich auch informeller Austausch zwischen Kollegen und Vertretern aus Industrie und Handel. Gebietsverkaufsleiter Christian Schwarz vertritt FLECK vor Ort. \n  \nBildquelle: Victor’s Residenz-Hotel Teistungenburg \n  \nPräsentiert von \n \n  \nFür Sie von FLECK vor Ort \nChristian Schwarz\, Gebietsverkaufsleiter in den PLZ-Bereichen 01\, 02\, 04–09\, 95–96\, 98–99
URL:https://staging.fleck-dach.de/termine/8-mitteldeutscher-dachtag/
LOCATION:Victor’s Residenz-Hotel Teistungenburg\, Klosterweg 6-7\, Teistungen\, Thüringen\, 37339\, Deutschland
CATEGORIES:Planer/Architekten,Verarbeiter
ATTACH;FMTTYPE=image/jpeg:https://staging.fleck-dach.de/wp-content/uploads/2025/06/victors-residenz-hotel-teistungenburg-e1749216162644.jpg
END:VEVENT
END:VCALENDAR