BEGIN:VCALENDAR
VERSION:2.0
PRODID:-//Fleck | Dachzubehör! - ECPv6.15.20//NONSGML v1.0//EN
CALSCALE:GREGORIAN
METHOD:PUBLISH
X-ORIGINAL-URL:https://staging.fleck-dach.de
X-WR-CALDESC:Veranstaltungen für Fleck | Dachzubehör!
REFRESH-INTERVAL;VALUE=DURATION:PT1H
X-Robots-Tag:noindex
X-PUBLISHED-TTL:PT1H
BEGIN:VTIMEZONE
TZID:Europe/Berlin
BEGIN:DAYLIGHT
TZOFFSETFROM:+0100
TZOFFSETTO:+0200
TZNAME:CEST
DTSTART:20220327T010000
END:DAYLIGHT
BEGIN:STANDARD
TZOFFSETFROM:+0200
TZOFFSETTO:+0100
TZNAME:CET
DTSTART:20221030T010000
END:STANDARD
BEGIN:DAYLIGHT
TZOFFSETFROM:+0100
TZOFFSETTO:+0200
TZNAME:CEST
DTSTART:20230326T010000
END:DAYLIGHT
BEGIN:STANDARD
TZOFFSETFROM:+0200
TZOFFSETTO:+0100
TZNAME:CET
DTSTART:20231029T010000
END:STANDARD
BEGIN:DAYLIGHT
TZOFFSETFROM:+0100
TZOFFSETTO:+0200
TZNAME:CEST
DTSTART:20240331T010000
END:DAYLIGHT
BEGIN:STANDARD
TZOFFSETFROM:+0200
TZOFFSETTO:+0100
TZNAME:CET
DTSTART:20241027T010000
END:STANDARD
END:VTIMEZONE
BEGIN:VEVENT
DTSTART;TZID=Europe/Berlin:20230118T134000
DTEND;TZID=Europe/Berlin:20230118T195000
DTSTAMP:20260419T190553
CREATED:20230111T080038Z
LAST-MODIFIED:20230111T080451Z
UID:10000035-1674049200-1674071400@staging.fleck-dach.de
SUMMARY:ROCKWOOL FORUM: Industrie- und Gewerbebau Kamp-Lintfort
DESCRIPTION:Der Industrie- und Gewerbebau hat sich hinsichtlich Architektur und Konstruktion deutlich gewandelt. Für die Planung der Bauteile Dach und Fassade gelten hohe Anforderungen. Die Verbundschulung vermittelt\, wie Aspekte des Wärme-\, Schall- und Brandschutzes sowie statische und architektonische Belange konzeptionell aufeinander abgestimmt werden können. \nPeter Nowack wird für FLECK über folgende Themen referieren: \n\nRegen- und Notentwässerung von Flachdächern\nAktuelle Entwässerungsnormen DIN EN 12056-3 und DIN 1986-100\nFreispiegel- und Druckentwässerung\nPlanungs- und Ausführungsgrundsätze\nUmsetzung der Normen in die Praxis\n\nGenaue Informationen zum Veranstaltungsort und den Anmelde-Link finden Sie hier. \n  \nPräsentiert von \n \n  \nFür Sie von FLECK vor Ort \nPeter Nowack\, Produktmanager und Spezialist für Dachzubehör \nRobert Middeweg\, Außendienstmitarbeiter für den Bereich WEST I\, PLZ-Bereiche 40-42\, 47\, 51\, 57
URL:https://staging.fleck-dach.de/termine/rockwool-forum-industrie-und-gewerbebau-kamp-lintfort/
LOCATION:Wellings Parkhotel\, Neuendickstraße 96\, Kamp-Lintfort\, Nordrhein-Westfalen\, 47475
CATEGORIES:Planer/Architekten
ATTACH;FMTTYPE=image/jpeg:https://staging.fleck-dach.de/wp-content/uploads/2022/10/fle_event_rockwool-sinsheim.jpg
ORGANIZER;CN="DEUTSCHE ROCKWOOL GmbH & Co. KG":MAILTO:info@rockwool.de
END:VEVENT
END:VCALENDAR